View In:
ArcGIS JavaScript
ArcGIS Online Map Viewer
ArcGIS Earth
ArcGIS Pro
Service Description:
Map Name: Map
Legend
All Layers and Tables
Dynamic Legend
Dynamic All Layers
Layers:
Description:
Service Item Id: efe381874b21442392390afeefa68a3e
Copyright Text:
Spatial Reference:
103013
(6428)
Single Fused Map Cache: true
Tile Info:
- Height: 256
- Width: 256
- DPI: 96
-
Levels of Detail: 24
-
Level ID: 0
[ Start Tile, End Tile ]
- Resolution: 951308.6320388829
- Scale: 1.0959097359282649E9
-
Level ID: 1
[ Start Tile, End Tile ]
- Resolution: 475654.31601944147
- Scale: 5.479548679641324E8
-
Level ID: 2
[ Start Tile, End Tile ]
- Resolution: 237827.15800972073
- Scale: 2.739774339820662E8
-
Level ID: 3
[ Start Tile, End Tile ]
- Resolution: 118913.57900486037
- Scale: 1.369887169910331E8
-
Level ID: 4
[ Start Tile, End Tile ]
- Resolution: 59456.78950243018
- Scale: 6.849435849551655E7
-
Level ID: 5
[ Start Tile, End Tile ]
- Resolution: 29728.39475121509
- Scale: 3.424717924775828E7
-
Level ID: 6
[ Start Tile, End Tile ]
- Resolution: 14864.197375607546
- Scale: 1.712358962387914E7
-
Level ID: 7
[ Start Tile, End Tile ]
- Resolution: 7432.098687803773
- Scale: 8561794.81193957
-
Level ID: 8
[ Start Tile, End Tile ]
- Resolution: 3716.0493439018865
- Scale: 4280897.405969785
-
Level ID: 9
[ Start Tile, End Tile ]
- Resolution: 1858.0246719509432
- Scale: 2140448.7029848923
-
Level ID: 10
[ Start Tile, End Tile ]
- Resolution: 929.0123359754716
- Scale: 1070224.3514924461
-
Level ID: 11
[ Start Tile, End Tile ]
- Resolution: 464.5061679877358
- Scale: 535112.1757462231
-
Level ID: 12
[ Start Tile, End Tile ]
- Resolution: 232.2530839938679
- Scale: 267556.08787311154
-
Level ID: 13
[ Start Tile, End Tile ]
- Resolution: 116.12654199693395
- Scale: 133778.04393655577
-
Level ID: 14
[ Start Tile, End Tile ]
- Resolution: 58.063270998466976
- Scale: 66889.02196827788
-
Level ID: 15
[ Start Tile, End Tile ]
- Resolution: 29.031635499233488
- Scale: 33444.51098413894
-
Level ID: 16
[ Start Tile, End Tile ]
- Resolution: 14.515817749616744
- Scale: 16722.25549206947
-
Level ID: 17
[ Start Tile, End Tile ]
- Resolution: 7.257908874808372
- Scale: 8361.127746034736
-
Level ID: 18
[ Start Tile, End Tile ]
- Resolution: 3.628954437404186
- Scale: 4180.563873017368
-
Level ID: 19
[ Start Tile, End Tile ]
- Resolution: 1.814477218702093
- Scale: 2090.281936508684
-
Level ID: 20
[ Start Tile, End Tile ]
- Resolution: 0.9072386093510465
- Scale: 1045.140968254342
-
Level ID: 21
[ Start Tile, End Tile ]
- Resolution: 0.45361930467552325
- Scale: 522.570484127171
-
Level ID: 22
[ Start Tile, End Tile ]
- Resolution: 0.22680965233776162
- Scale: 261.2852420635855
-
Level ID: 23
[ Start Tile, End Tile ]
- Resolution: 0.11340482616888081
- Scale: 130.64262103179274
- Format: Mixed
- Compression Quality: 75.0
- Origin: X: -1.1876750490066093E8
Y: 1.1242698914030853E8
- Spatial Reference: 103013
(6428)
Storage Info:
- Storage Format: esriMapCacheStorageModeCompactV2
- Packet Size: 128
Initial Extent:
XMin: 3019500.077419355
YMin: 1457960
XMax: 3279123.922580645
YMax: 1678664
Spatial Reference: 103013
(6428)
Full Extent:
XMin: 3025231.999862969
YMin: 1467991.999836728
XMax: 3273392
YMax: 1668632.000130728
Spatial Reference: 103013
(6428)
Units: esriFeet
Supported Image Format Types: PNG32,PNG24,PNG,JPG,DIB,TIFF,EMF,PS,PDF,GIF,SVG,SVGZ,BMP
Document Info:
Title: Map
Author:
Comments:
Subject:
Category:
Keywords: drapp
AntialiasingMode: Normal
TextAntialiasingMode: Normal
Supports Dynamic Layers: true
MaxRecordCount: 2000
MaxImageHeight: 4096
MaxImageWidth: 4096
Supported Query Formats: JSON, geoJSON, PBF
Supports Query Data Elements: true
Min Scale: 2.739774339820662E8
Max Scale: 522.570484127171
Supports Datum Transformation: true
Child Resources:
Info
Dynamic Layer
Supported Operations:
Export Map
QueryLegends
Return Updates