{
 "currentVersion": 11.3,
 "cimVersion": "3.3.0",
 "serviceDescription": "",
 "mapName": "Map",
 "description": "",
 "copyrightText": "",
 "supportsDynamicLayers": true,
 "layers": [
  {
   "id": 0,
   "name": "drapp2024",
   "parentLayerId": -1,
   "defaultVisibility": true,
   "subLayerIds": [
    1,
    2,
    3
   ],
   "minScale": 0,
   "maxScale": 0,
   "type": "Mosaic Layer",
   "supportsDynamicLegends": false
  },
  {
   "id": 1,
   "name": "Boundary",
   "parentLayerId": 0,
   "defaultVisibility": false,
   "subLayerIds": null,
   "minScale": 0,
   "maxScale": 0,
   "type": "Feature Layer",
   "geometryType": "esriGeometryPolygon",
   "supportsDynamicLegends": true
  },
  {
   "id": 2,
   "name": "Footprint",
   "parentLayerId": 0,
   "defaultVisibility": false,
   "subLayerIds": null,
   "minScale": 0,
   "maxScale": 0,
   "type": "Feature Layer",
   "geometryType": "esriGeometryPolygon",
   "supportsDynamicLegends": true
  },
  {
   "id": 3,
   "name": "Image",
   "parentLayerId": 0,
   "defaultVisibility": true,
   "subLayerIds": null,
   "minScale": 0,
   "maxScale": 0,
   "type": "Raster Layer",
   "supportsDynamicLegends": true
  }
 ],
 "tables": [],
 "spatialReference": {
  "wkid": 103013,
  "latestWkid": 6428,
  "xyTolerance": 0.003280833333333333,
  "zTolerance": 0.001,
  "mTolerance": 0.001,
  "falseX": -118767900,
  "falseY": -94525500,
  "xyUnits": 3048.0060960121928,
  "falseZ": -100000,
  "zUnits": 10000,
  "falseM": -100000,
  "mUnits": 10000
 },
 "singleFusedMapCache": true,
 "tileInfo": {
  "rows": 256,
  "cols": 256,
  "dpi": 96,
  "format": "Mixed",
  "compressionQuality": 75,
  "origin": {
   "x": -1.1876750490066093E8,
   "y": 1.1242698914030853E8
  },
  "spatialReference": {
   "wkid": 103013,
   "latestWkid": 6428,
   "xyTolerance": 0.003280833333333333,
   "zTolerance": 0.001,
   "mTolerance": 0.001,
   "falseX": -118767900,
   "falseY": -94525500,
   "xyUnits": 3048.0060960121928,
   "falseZ": -100000,
   "zUnits": 10000,
   "falseM": -100000,
   "mUnits": 10000
  },
  "lods": [
   {
    "level": 0,
    "resolution": 951308.6320388829,
    "scale": 1.0959097359282649E9
   },
   {
    "level": 1,
    "resolution": 475654.31601944147,
    "scale": 5.479548679641324E8
   },
   {
    "level": 2,
    "resolution": 237827.15800972073,
    "scale": 2.739774339820662E8
   },
   {
    "level": 3,
    "resolution": 118913.57900486037,
    "scale": 1.369887169910331E8
   },
   {
    "level": 4,
    "resolution": 59456.78950243018,
    "scale": 6.849435849551655E7
   },
   {
    "level": 5,
    "resolution": 29728.39475121509,
    "scale": 3.424717924775828E7
   },
   {
    "level": 6,
    "resolution": 14864.197375607546,
    "scale": 1.712358962387914E7
   },
   {
    "level": 7,
    "resolution": 7432.098687803773,
    "scale": 8561794.81193957
   },
   {
    "level": 8,
    "resolution": 3716.0493439018865,
    "scale": 4280897.405969785
   },
   {
    "level": 9,
    "resolution": 1858.0246719509432,
    "scale": 2140448.7029848923
   },
   {
    "level": 10,
    "resolution": 929.0123359754716,
    "scale": 1070224.3514924461
   },
   {
    "level": 11,
    "resolution": 464.5061679877358,
    "scale": 535112.1757462231
   },
   {
    "level": 12,
    "resolution": 232.2530839938679,
    "scale": 267556.08787311154
   },
   {
    "level": 13,
    "resolution": 116.12654199693395,
    "scale": 133778.04393655577
   },
   {
    "level": 14,
    "resolution": 58.063270998466976,
    "scale": 66889.02196827788
   },
   {
    "level": 15,
    "resolution": 29.031635499233488,
    "scale": 33444.51098413894
   },
   {
    "level": 16,
    "resolution": 14.515817749616744,
    "scale": 16722.25549206947
   },
   {
    "level": 17,
    "resolution": 7.257908874808372,
    "scale": 8361.127746034736
   },
   {
    "level": 18,
    "resolution": 3.628954437404186,
    "scale": 4180.563873017368
   },
   {
    "level": 19,
    "resolution": 1.814477218702093,
    "scale": 2090.281936508684
   },
   {
    "level": 20,
    "resolution": 0.9072386093510465,
    "scale": 1045.140968254342
   },
   {
    "level": 21,
    "resolution": 0.45361930467552325,
    "scale": 522.570484127171
   },
   {
    "level": 22,
    "resolution": 0.22680965233776162,
    "scale": 261.2852420635855
   },
   {
    "level": 23,
    "resolution": 0.11340482616888081,
    "scale": 130.64262103179274
   }
  ]
 },
 "storageInfo": {
  "storageFormat": "esriMapCacheStorageModeCompactV2",
  "packetSize": 128
 },
 "initialExtent": {
  "xmin": 3019500.077419355,
  "ymin": 1457960,
  "xmax": 3279123.922580645,
  "ymax": 1678664,
  "spatialReference": {
   "wkid": 103013,
   "latestWkid": 6428,
   "xyTolerance": 0.003280833333333333,
   "zTolerance": 0.001,
   "mTolerance": 0.001,
   "falseX": -118767900,
   "falseY": -94525500,
   "xyUnits": 3048.0060960121928,
   "falseZ": -100000,
   "zUnits": 10000,
   "falseM": -100000,
   "mUnits": 10000
  }
 },
 "fullExtent": {
  "xmin": 3025231.999862969,
  "ymin": 1467991.999836728,
  "xmax": 3273392,
  "ymax": 1668632.000130728,
  "spatialReference": {
   "wkid": 103013,
   "latestWkid": 6428,
   "xyTolerance": 0.003280833333333333,
   "zTolerance": 0.001,
   "mTolerance": 0.001,
   "falseX": -118767900,
   "falseY": -94525500,
   "xyUnits": 3048.0060960121928,
   "falseZ": -100000,
   "zUnits": 10000,
   "falseM": -100000,
   "mUnits": 10000
  }
 },
 "datesInUnknownTimezone": false,
 "minScale": 2.739774339820662E8,
 "maxScale": 522.570484127171,
 "units": "esriFeet",
 "supportedImageFormatTypes": "PNG32,PNG24,PNG,JPG,DIB,TIFF,EMF,PS,PDF,GIF,SVG,SVGZ,BMP",
 "documentInfo": {
  "Title": "Map",
  "Author": "",
  "Comments": "",
  "Subject": "",
  "Category": "",
  "Version": "3.3.0",
  "AntialiasingMode": "Normal",
  "TextAntialiasingMode": "Normal",
  "Keywords": ""
 },
 "supportsQueryDomains": true,
 "capabilities": "Map",
 "supportedQueryFormats": "JSON, geoJSON, PBF",
 "exportTilesAllowed": false,
 "referenceScale": 0.0,
 "datumTransformations": [
  {
   "geoTransforms": [
    {
     "wkid": 108363,
     "latestWkid": 108363,
     "transformForward": true,
     "name": "WGS_1984_(ITRF08)_To_NAD_1983_2011"
    }
   ]
  },
  {
   "geoTransforms": [
    {
     "wkid": 108363,
     "latestWkid": 108363,
     "transformForward": false,
     "name": "WGS_1984_(ITRF08)_To_NAD_1983_2011"
    }
   ]
  },
  {
   "geoTransforms": [
    {
     "wkid": 108363,
     "latestWkid": 108363,
     "transformForward": true,
     "name": "WGS_1984_(ITRF08)_To_NAD_1983_2011"
    }
   ]
  },
  {
   "geoTransforms": [
    {
     "wkid": 108363,
     "latestWkid": 108363,
     "transformForward": false,
     "name": "WGS_1984_(ITRF08)_To_NAD_1983_2011"
    }
   ]
  }
 ],
 "supportsDatumTransformation": true,
 "archivingInfo": {
  "supportsHistoricMoment": false
 },
 "supportsClipping": true,
 "supportsSpatialFilter": true,
 "supportsTimeRelation": true,
 "supportsQueryDataElements": true,
 "mapUnits": {
  "uwkid": 9003
 },
 "maxRecordCount": 2000,
 "maxImageHeight": 4096,
 "maxImageWidth": 4096,
 "supportedExtensions": "",
 "serviceItemId": "efe381874b21442392390afeefa68a3e"
}
