View In:
ArcGIS JavaScript
ArcGIS Online map viewer
Google Earth
ArcMap
View Footprint In:
ArcGIS Online map viewer
Service Description: Topography/LAS_DEM_TIF
Name: Topography/LAS_DEM_TIF
Description: Topography/LAS_DEM_TIF
Single Fused Map Cache: false
Extent:
XMin: 3045300
YMin: 1472016
XMax: 3240660
YMax: 1635036
Spatial Reference: PROJCS["NAD_1983_StatePlane_Colorado_Central_FIPS_0502_Feet",GEOGCS["GCS_North_American_1983",DATUM["D_North_American_1983",SPHEROID["GRS_1980",6378137.0,298.257222101]],PRIMEM["Greenwich",0.0],UNIT["Degree",0.0174532925199433]],PROJECTION["Lambert_Conformal_Conic"],PARAMETER["False_Easting",3000000.000316083],PARAMETER["False_Northing",999999.999996],PARAMETER["Central_Meridian",-105.5],PARAMETER["Standard_Parallel_1",38.45],PARAMETER["Standard_Parallel_2",39.75],PARAMETER["Latitude_Of_Origin",37.83333333333334],UNIT["Foot_US",0.3048006096012192]],VERTCS["NAVD88 - Geoid12A (Feet)",VDATUM["unknown"],PARAMETER["Vertical_Shift",0.0],PARAMETER["Direction",1.0],UNIT["Foot_US",0.3048006096012192]]
Initial Extent:
XMin: 3045300
YMin: 1472016
XMax: 3240660
YMax: 1635036
Spatial Reference: PROJCS["NAD_1983_StatePlane_Colorado_Central_FIPS_0502_Feet",GEOGCS["GCS_North_American_1983",DATUM["D_North_American_1983",SPHEROID["GRS_1980",6378137.0,298.257222101]],PRIMEM["Greenwich",0.0],UNIT["Degree",0.0174532925199433]],PROJECTION["Lambert_Conformal_Conic"],PARAMETER["False_Easting",3000000.000316083],PARAMETER["False_Northing",999999.999996],PARAMETER["Central_Meridian",-105.5],PARAMETER["Standard_Parallel_1",38.45],PARAMETER["Standard_Parallel_2",39.75],PARAMETER["Latitude_Of_Origin",37.83333333333334],UNIT["Foot_US",0.3048006096012192]],VERTCS["NAVD88 - Geoid12A (Feet)",VDATUM["unknown"],PARAMETER["Vertical_Shift",0.0],PARAMETER["Direction",1.0],UNIT["Foot_US",0.3048006096012192]]
Full Extent:
XMin: 3045300
YMin: 1472016
XMax: 3240660
YMax: 1635036
Spatial Reference: PROJCS["NAD_1983_StatePlane_Colorado_Central_FIPS_0502_Feet",GEOGCS["GCS_North_American_1983",DATUM["D_North_American_1983",SPHEROID["GRS_1980",6378137.0,298.257222101]],PRIMEM["Greenwich",0.0],UNIT["Degree",0.0174532925199433]],PROJECTION["Lambert_Conformal_Conic"],PARAMETER["False_Easting",3000000.000316083],PARAMETER["False_Northing",999999.999996],PARAMETER["Central_Meridian",-105.5],PARAMETER["Standard_Parallel_1",38.45],PARAMETER["Standard_Parallel_2",39.75],PARAMETER["Latitude_Of_Origin",37.83333333333334],UNIT["Foot_US",0.3048006096012192]],VERTCS["NAVD88 - Geoid12A (Feet)",VDATUM["unknown"],PARAMETER["Vertical_Shift",0.0],PARAMETER["Direction",1.0],UNIT["Foot_US",0.3048006096012192]]
Pixel Size X: 12.0
Pixel Size Y: 12.0
Band Count: 1
Pixel Type: F32
RasterFunction Infos: N/A
Mensuration Capabilities: Basic
Has Histograms: true
Has Colormap: false
Has Multi Dimensions : false
Rendering Rule:
Min Scale: 0
Max Scale: 0
Copyright Text:
Service Data Type: esriImageServiceDataTypeElevation
Min Values: 5349.927734375
Max Values: 10426.4423828125
Mean Values: 6898.339239232134
Standard Deviation Values: 839.2126203328914
Object ID Field:
Fields:
None
Default Mosaic Method: Center
Allowed Mosaic Methods:
SortField:
SortValue: null
Mosaic Operator: First
Default Compression Quality: 75
Default Resampling Method: Bilinear
Max Record Count: null
Max Image Height: 4100
Max Image Width: 15000
Max Download Image Count: null
Max Mosaic Image Count: null
Allow Raster Function: true
Allow Compute TiePoints: false
Supports Statistics: false
Supports Advanced Queries: false
Use StandardizedQueries: true
Raster Type Infos:
Name: Raster Dataset
Description: Supports all ArcGIS Raster Datasets
Help:
Has Raster Attribute Table: false
Edit Fields Info: null
Ownership Based AccessControl For Rasters: null
Child Resources:
Info
Histograms
Key Properties
Legend
MultiDimensionalInfo
rasterFunctionInfos
Supported Operations:
Export Image
Identify
Measure
Compute Histograms
Compute Statistics Histograms
Get Samples
Compute Class Statistics