{
 "currentVersion": 10.41,
 "serviceDescription": "Topography/LAS_DEM_TIF",
 "name": "Topography/LAS_DEM_TIF",
 "description": "Topography/LAS_DEM_TIF",
 "extent": {
  "xmin": 3045300,
  "ymin": 1472016,
  "xmax": 3240660,
  "ymax": 1635036,
  "spatialReference": {
   "wkt": "PROJCS[\"NAD_1983_StatePlane_Colorado_Central_FIPS_0502_Feet\",GEOGCS[\"GCS_North_American_1983\",DATUM[\"D_North_American_1983\",SPHEROID[\"GRS_1980\",6378137.0,298.257222101]],PRIMEM[\"Greenwich\",0.0],UNIT[\"Degree\",0.0174532925199433]],PROJECTION[\"Lambert_Conformal_Conic\"],PARAMETER[\"False_Easting\",3000000.000316083],PARAMETER[\"False_Northing\",999999.999996],PARAMETER[\"Central_Meridian\",-105.5],PARAMETER[\"Standard_Parallel_1\",38.45],PARAMETER[\"Standard_Parallel_2\",39.75],PARAMETER[\"Latitude_Of_Origin\",37.83333333333334],UNIT[\"Foot_US\",0.3048006096012192]],VERTCS[\"NAVD88 - Geoid12A (Feet)\",VDATUM[\"unknown\"],PARAMETER[\"Vertical_Shift\",0.0],PARAMETER[\"Direction\",1.0],UNIT[\"Foot_US\",0.3048006096012192]]"
  }
 },
 "initialExtent": {
  "xmin": 3045300,
  "ymin": 1472016,
  "xmax": 3240660,
  "ymax": 1635036,
  "spatialReference": {
   "wkt": "PROJCS[\"NAD_1983_StatePlane_Colorado_Central_FIPS_0502_Feet\",GEOGCS[\"GCS_North_American_1983\",DATUM[\"D_North_American_1983\",SPHEROID[\"GRS_1980\",6378137.0,298.257222101]],PRIMEM[\"Greenwich\",0.0],UNIT[\"Degree\",0.0174532925199433]],PROJECTION[\"Lambert_Conformal_Conic\"],PARAMETER[\"False_Easting\",3000000.000316083],PARAMETER[\"False_Northing\",999999.999996],PARAMETER[\"Central_Meridian\",-105.5],PARAMETER[\"Standard_Parallel_1\",38.45],PARAMETER[\"Standard_Parallel_2\",39.75],PARAMETER[\"Latitude_Of_Origin\",37.83333333333334],UNIT[\"Foot_US\",0.3048006096012192]],VERTCS[\"NAVD88 - Geoid12A (Feet)\",VDATUM[\"unknown\"],PARAMETER[\"Vertical_Shift\",0.0],PARAMETER[\"Direction\",1.0],UNIT[\"Foot_US\",0.3048006096012192]]"
  }
 },
 "fullExtent": {
  "xmin": 3045300,
  "ymin": 1472016,
  "xmax": 3240660,
  "ymax": 1635036,
  "spatialReference": {
   "wkt": "PROJCS[\"NAD_1983_StatePlane_Colorado_Central_FIPS_0502_Feet\",GEOGCS[\"GCS_North_American_1983\",DATUM[\"D_North_American_1983\",SPHEROID[\"GRS_1980\",6378137.0,298.257222101]],PRIMEM[\"Greenwich\",0.0],UNIT[\"Degree\",0.0174532925199433]],PROJECTION[\"Lambert_Conformal_Conic\"],PARAMETER[\"False_Easting\",3000000.000316083],PARAMETER[\"False_Northing\",999999.999996],PARAMETER[\"Central_Meridian\",-105.5],PARAMETER[\"Standard_Parallel_1\",38.45],PARAMETER[\"Standard_Parallel_2\",39.75],PARAMETER[\"Latitude_Of_Origin\",37.83333333333334],UNIT[\"Foot_US\",0.3048006096012192]],VERTCS[\"NAVD88 - Geoid12A (Feet)\",VDATUM[\"unknown\"],PARAMETER[\"Vertical_Shift\",0.0],PARAMETER[\"Direction\",1.0],UNIT[\"Foot_US\",0.3048006096012192]]"
  }
 },
 "pixelSizeX": 12,
 "pixelSizeY": 12,
 "bandCount": 1,
 "pixelType": "F32",
 "minPixelSize": 0,
 "maxPixelSize": 0,
 "copyrightText": "",
 "serviceDataType": "esriImageServiceDataTypeElevation",
 "minValues": [
  5349.927734375
 ],
 "maxValues": [
  10426.4423828125
 ],
 "meanValues": [
  6898.339239232134
 ],
 "stdvValues": [
  839.2126203328914
 ],
 "objectIdField": "",
 "fields": [],
 "capabilities": "Image,Metadata,Mensuration",
 "defaultMosaicMethod": "Center",
 "allowedMosaicMethods": "",
 "sortField": "",
 "sortValue": null,
 "mosaicOperator": "First",
 "defaultCompressionQuality": 75,
 "defaultResamplingMethod": "Bilinear",
 "maxImageHeight": 4100,
 "maxImageWidth": 15000,
 "allowRasterFunction": true,
 "rasterFunctionInfos": [],
 "rasterTypeInfos": [
  {
   "name": "Raster Dataset",
   "description": "Supports all ArcGIS Raster Datasets",
   "help": ""
  }
 ],
 "mensurationCapabilities": "Basic",
 "hasHistograms": true,
 "hasColormap": false,
 "hasRasterAttributeTable": false,
 "minScale": 0,
 "maxScale": 0,
 "exportTilesAllowed": false,
 "hasMultidimensions": false,
 "supportsStatistics": false,
 "supportsAdvancedQueries": false,
 "editFieldsInfo": null,
 "ownershipBasedAccessControlForRasters": null,
 "allowComputeTiePoints": false,
 "useStandardizedQueries": true,
 "advancedQueryCapabilities": {
  "useStandardizedQueries": true,
  "supportsStatistics": false,
  "supportsOrderBy": false,
  "supportsDistinct": false,
  "supportsPagination": false
 },
 "spatialReference": {
  "wkt": "PROJCS[\"NAD_1983_StatePlane_Colorado_Central_FIPS_0502_Feet\",GEOGCS[\"GCS_North_American_1983\",DATUM[\"D_North_American_1983\",SPHEROID[\"GRS_1980\",6378137.0,298.257222101]],PRIMEM[\"Greenwich\",0.0],UNIT[\"Degree\",0.0174532925199433]],PROJECTION[\"Lambert_Conformal_Conic\"],PARAMETER[\"False_Easting\",3000000.000316083],PARAMETER[\"False_Northing\",999999.999996],PARAMETER[\"Central_Meridian\",-105.5],PARAMETER[\"Standard_Parallel_1\",38.45],PARAMETER[\"Standard_Parallel_2\",39.75],PARAMETER[\"Latitude_Of_Origin\",37.83333333333334],UNIT[\"Foot_US\",0.3048006096012192]],VERTCS[\"NAVD88 - Geoid12A (Feet)\",VDATUM[\"unknown\"],PARAMETER[\"Vertical_Shift\",0.0],PARAMETER[\"Direction\",1.0],UNIT[\"Foot_US\",0.3048006096012192]]"
 }
}
