View In:
ArcGIS JavaScript
ArcGIS Online map viewer
Google Earth
ArcMap
View Footprint In:
ArcGIS Online map viewer
Service Description: Image Service for Snow Load PSF information based on elevation in Douglas Coutny, CO. Used for Building Department Design Review process.
Name: Topography/DC_DEM_SnowLoad_IS
Description: Image Service for Snow Load PSF information based on elevation in Douglas Coutny, CO. Used for Building Department Design Review process.
Single Fused Map Cache: false
Extent:
XMin: 3028847.999848798
YMin: 1472016.000101313
XMax: 3265907.999848798
YMax: 1642236.000101313
Spatial Reference: 102654
(2232)
Initial Extent:
XMin: 3028847.999848798
YMin: 1472016.000101313
XMax: 3265907.999848798
YMax: 1642236.000101313
Spatial Reference: 102654
(2232)
Full Extent:
XMin: 3028847.999848798
YMin: 1472016.000101313
XMax: 3265907.999848798
YMax: 1642236.000101313
Spatial Reference: 102654
(2232)
Pixel Size X: 12.0
Pixel Size Y: 12.0
Band Count: 3
Pixel Type: U8
RasterFunction Infos: N/A
Mensuration Capabilities: Basic,3D
Has Histograms: false
Has Colormap: false
Has Multi Dimensions : false
Rendering Rule:
Min Scale: 0
Max Scale: 0
Copyright Text:
Service Data Type: esriImageServiceDataTypeRGB
Min Values: N/A
Max Values: N/A
Mean Values: N/A
Standard Deviation Values: N/A
Object ID Field:
Fields:
None
Default Mosaic Method: Center
Allowed Mosaic Methods:
SortField:
SortValue: null
Mosaic Operator: First
Default Compression Quality: 75
Default Resampling Method: Bilinear
Max Record Count: null
Max Image Height: 4100
Max Image Width: 15000
Max Download Image Count: null
Max Mosaic Image Count: null
Allow Raster Function: true
Allow Compute TiePoints: false
Supports Statistics: false
Supports Advanced Queries: false
Use StandardizedQueries: true
Raster Type Infos:
Name: Raster Dataset
Description: Supports all ArcGIS Raster Datasets
Help:
Has Raster Attribute Table: false
Edit Fields Info: null
Ownership Based AccessControl For Rasters: null
Child Resources:
Info
Key Properties
Legend
MultiDimensionalInfo
rasterFunctionInfos
Supported Operations:
Export Image
Identify
Measure
Compute Histograms
Compute Statistics Histograms
Get Samples
Compute Class Statistics