{
 "currentVersion": 10.41,
 "serviceDescription": "Image Service for Snow Load PSF information based on elevation in Douglas Coutny, CO. Used for Building Department Design Review process.",
 "name": "Topography/DC_DEM_SnowLoad_IS",
 "description": "Image Service for Snow Load PSF information based on elevation in Douglas Coutny, CO. Used for Building Department Design Review process.",
 "extent": {
  "xmin": 3028847.999848798,
  "ymin": 1472016.000101313,
  "xmax": 3265907.999848798,
  "ymax": 1642236.000101313,
  "spatialReference": {
   "wkid": 102654,
   "latestWkid": 2232
  }
 },
 "initialExtent": {
  "xmin": 3028847.999848798,
  "ymin": 1472016.000101313,
  "xmax": 3265907.999848798,
  "ymax": 1642236.000101313,
  "spatialReference": {
   "wkid": 102654,
   "latestWkid": 2232
  }
 },
 "fullExtent": {
  "xmin": 3028847.999848798,
  "ymin": 1472016.000101313,
  "xmax": 3265907.999848798,
  "ymax": 1642236.000101313,
  "spatialReference": {
   "wkid": 102654,
   "latestWkid": 2232
  }
 },
 "pixelSizeX": 12,
 "pixelSizeY": 12,
 "bandCount": 3,
 "pixelType": "U8",
 "minPixelSize": 0,
 "maxPixelSize": 0,
 "copyrightText": "",
 "serviceDataType": "esriImageServiceDataTypeRGB",
 "minValues": [],
 "maxValues": [],
 "meanValues": [],
 "stdvValues": [],
 "objectIdField": "",
 "fields": [],
 "capabilities": "Image,Metadata,Mensuration",
 "defaultMosaicMethod": "Center",
 "allowedMosaicMethods": "",
 "sortField": "",
 "sortValue": null,
 "mosaicOperator": "First",
 "defaultCompressionQuality": 75,
 "defaultResamplingMethod": "Bilinear",
 "maxImageHeight": 4100,
 "maxImageWidth": 15000,
 "allowRasterFunction": true,
 "rasterFunctionInfos": [],
 "rasterTypeInfos": [
  {
   "name": "Raster Dataset",
   "description": "Supports all ArcGIS Raster Datasets",
   "help": ""
  }
 ],
 "mensurationCapabilities": "Basic,3D",
 "hasHistograms": false,
 "hasColormap": false,
 "hasRasterAttributeTable": false,
 "minScale": 0,
 "maxScale": 0,
 "exportTilesAllowed": false,
 "hasMultidimensions": false,
 "supportsStatistics": false,
 "supportsAdvancedQueries": false,
 "editFieldsInfo": null,
 "ownershipBasedAccessControlForRasters": null,
 "allowComputeTiePoints": false,
 "useStandardizedQueries": true,
 "advancedQueryCapabilities": {
  "useStandardizedQueries": true,
  "supportsStatistics": false,
  "supportsOrderBy": false,
  "supportsDistinct": false,
  "supportsPagination": false
 },
 "spatialReference": {
  "wkid": 102654,
  "latestWkid": 2232
 }
}
