View In:
ArcGIS JavaScript
ArcGIS Online Map Viewer
ArcGIS Earth
ArcGIS Pro
Service Description: This service is used as a base map for Douglas County,Colorado. It consists of centerline, park, hydro, and school data. For questions or comments please email
[email protected].
Map Name: DougCo_HillShade
Legend
All Layers and Tables
Layers:
Description: This service is used as a base map for Douglas County,Colorado. It consists of centerline, park, hydro, and school data. For questions or comments please email
[email protected].
Service Item Id: 2940059e786043d7bf5fc968b9fa084f
Copyright Text: DC GIS Services Team
Spatial Reference:
102100
(3857)
LatestVCSWkid(0)
Single Fused Map Cache: true
Tile Info:
- Height: 256.0
- Width: 256.0
- DPI: 96.0
-
Levels of Detail: 24
-
Level ID: 1
[ Start Tile, End Tile ]
- Resolution: 78271.5169639999
- Scale: 2.95828763795777E8
-
Level ID: 2
[ Start Tile, End Tile ]
- Resolution: 39135.7584820001
- Scale: 1.47914381897889E8
-
Level ID: 3
[ Start Tile, End Tile ]
- Resolution: 19567.8792409999
- Scale: 7.3957190948944E7
-
Level ID: 4
[ Start Tile, End Tile ]
- Resolution: 9783.93962049996
- Scale: 3.6978595474472E7
-
Level ID: 5
[ Start Tile, End Tile ]
- Resolution: 4891.96981024998
- Scale: 1.8489297737236E7
- Format: PNG
- Compression Quality: 0.0
- Origin: X: -2.0037508342787E7
Y: 2.0037508342787E7
- Spatial Reference: 102100
(3857)
LatestVCSWkid(0)
Storage Info:
- Storage Format: esriMapCacheStorageModeCompactV2
- Packet Size: 128
Initial Extent:
XMin: -1.1754559020146118E7
YMin: 4701906.90956272
XMax: -1.1630425286210945E7
YMax: 4828028.006233308
Spatial Reference: 102100
(0)
LatestVCSWkid(0)
Full Extent:
XMin: -1.1947486230726158E7
YMin: 4675260.10500912
XMax: -1.141701325442729E7
YMax: 4967249.553058353
Spatial Reference: 102100
(0)
LatestVCSWkid(0)
Units: esriMeters
Supported Image Format Types: PNG32,PNG24,PNG,JPG,DIB,TIFF,EMF,PS,PDF,GIF,SVG,SVGZ,BMP
Document Info:
Title: BaseMap_GCS
Author:
Comments: This service is used as a base map for Douglas County,Colorado. It consists of centerline, park, hydro, and school data. For questions or comments please email [email protected].
Subject: This service is used as a base map for Douglas County,Colorado. It consists of centerline, park, hydro, and school data.
Category:
Keywords: Douglas County Colorado,BaseMap
AntialiasingMode: Fast
TextAntialiasingMode: Force
Supports Dynamic Layers: false
MaxRecordCount: 2000
MaxSelectionCount: 2000
MaxImageHeight: 4096
MaxImageWidth: 4096
Supported Query Formats: JSON, geoJSON, PBF
Supports Query Data Elements: true
Min Scale: 5.91657527591555E8
Max Scale: 18055.954822
Supports Datum Transformation: true
Child Resources:
Info
Supported Operations:
Export Map
QueryLegends
Return Updates