{
 "version": 1.0,
 "tileBundlesPath": "./tile",
 "storageInfo": {
  "packetSize": 128,
  "storageFormat": "esriMapCacheStorageModeCompactV2"
 },
 "tileImageInfo": {
  "format": "PNG8",
  "compressionQuality": 0,
  "bandCount": 1,
  "lercError": 0
 },
 "tileInfo": {
  "spatialReference": {
   "wkid": 102100,
   "latestWkid": 3857
  },
  "origin": {
   "x": -2.0037508342787E7,
   "y": 2.0037508342787E7
  },
  "rows": 256,
  "cols": 256,
  "dpi": 96,
  "lods": [
   {
    "level": 0,
    "resolution": 156543.033928,
    "scale": 5.91657527591555E8
   },
   {
    "level": 1,
    "resolution": 78271.5169639999,
    "scale": 2.95828763795777E8
   },
   {
    "level": 2,
    "resolution": 39135.7584820001,
    "scale": 1.47914381897889E8
   },
   {
    "level": 3,
    "resolution": 19567.8792409999,
    "scale": 7.3957190948944E7
   },
   {
    "level": 4,
    "resolution": 9783.93962049996,
    "scale": 3.6978595474472E7
   },
   {
    "level": 5,
    "resolution": 4891.96981024998,
    "scale": 1.8489297737236E7
   },
   {
    "level": 6,
    "resolution": 2445.98490512499,
    "scale": 9244648.868618
   },
   {
    "level": 7,
    "resolution": 1222.99245256249,
    "scale": 4622324.434309
   },
   {
    "level": 8,
    "resolution": 611.49622628138,
    "scale": 2311162.217155
   },
   {
    "level": 9,
    "resolution": 305.748113140558,
    "scale": 1155581.108577
   },
   {
    "level": 10,
    "resolution": 152.874056570411,
    "scale": 577790.554289
   },
   {
    "level": 11,
    "resolution": 76.4370282850732,
    "scale": 288895.277144
   },
   {
    "level": 12,
    "resolution": 38.2185141425366,
    "scale": 144447.638572
   },
   {
    "level": 13,
    "resolution": 19.1092570712683,
    "scale": 72223.819286
   },
   {
    "level": 14,
    "resolution": 9.55462853563415,
    "scale": 36111.909643
   },
   {
    "level": 15,
    "resolution": 4.77731426794937,
    "scale": 18055.954822
   },
   {
    "level": 16,
    "resolution": 2.38865713397468,
    "scale": 9027.977411
   },
   {
    "level": 17,
    "resolution": 1.19432856685505,
    "scale": 4513.988705
   },
   {
    "level": 18,
    "resolution": 0.597164283559817,
    "scale": 2256.994353
   },
   {
    "level": 19,
    "resolution": 0.298582141647617,
    "scale": 1128.497176
   },
   {
    "level": 20,
    "resolution": 0.14929107082380833,
    "scale": 564.248588
   },
   {
    "level": 21,
    "resolution": 0.07464553541190416,
    "scale": 282.124294
   },
   {
    "level": 22,
    "resolution": 0.03732276770595208,
    "scale": 141.062147
   },
   {
    "level": 23,
    "resolution": 0.01866138385297604,
    "scale": 70.5310735
   }
  ],
  "format": "PNG8",
  "compressionQuality": 0,
  "bandCount": 1,
  "lercError": 0,
  "storageFormat": "esriMapCacheStorageModeCompactV2",
  "packetSize": 128
 },
 "name": "Aerial",
 "serviceDescription": "",
 "spatialReference": {
  "wkid": 102100,
  "latestWkid": 3857,
  "xyTolerance": 0.001,
  "zTolerance": 0.001,
  "mTolerance": 0.001,
  "falseX": -20037700,
  "falseY": -30241100,
  "xyUnits": 10000,
  "falseZ": -100000,
  "zUnits": 10000,
  "falseM": -100000,
  "mUnits": 10000
 },
 "units": "esriMeters",
 "minLOD": 0,
 "maxLOD": 18,
 "resampling": true,
 "layers": [
  {
   "id": 0,
   "name": "Douglas_County_BOCC_Owned",
   "parentLayerId": -1,
   "defaultVisibility": true,
   "subLayerIds": null,
   "minScale": 24000,
   "maxScale": 0,
   "type": "Feature Layer",
   "geometryType": "esriGeometryPolygon",
   "supportsDynamicLegends": true,
   "legend": [
    {
     "label": "",
     "imageData": "iVBORw0KGgoAAAANSUhEUgAAABQAAAAUCAYAAACNiR0NAAAACXBIWXMAAA7EAAAOxAGVKw4bAAAAPElEQVQ4jWP5/5+hiIF64BkLlLGVSgYawgykGmAZNZBiwEK5Eahg1EDKAQsVzEABowaOlDB8BippqWUiAIYlBaQkUtMfAAAAAElFTkSuQmCC",
     "contentType": "image/png",
     "groupId": "0",
     "height": 20,
     "width": 20,
     "layerId": 0,
     "layerName": "Douglas_County_BOCC_Owned"
    }
   ],
   "layerId": 0,
   "layerName": "Douglas_County_BOCC_Owned",
   "serviceItemId": "15520ccbda92405abbfc464ed080cd9c"
  },
  {
   "id": 1,
   "name": "BOUNDARY",
   "parentLayerId": -1,
   "defaultVisibility": true,
   "subLayerIds": null,
   "minScale": 0,
   "maxScale": 0,
   "type": "Feature Layer",
   "geometryType": "esriGeometryPolyline",
   "supportsDynamicLegends": true,
   "legend": [
    {
     "label": "ROW Easement",
     "imageData": "iVBORw0KGgoAAAANSUhEUgAAABQAAAAUCAYAAACNiR0NAAAACXBIWXMAAA7EAAAOxAGVKw4bAAAAQElEQVQ4jWNhoDJgGTWQYsBCuRGoYNRAKoZhU1PTfxi7rq6OkRjN2PSwkGoIMsCmh4WByoBl1ECKAQvlRgw1AwEebQtHJaLgOQAAAABJRU5ErkJggg==",
     "contentType": "image/png",
     "groupId": "0",
     "height": 20,
     "width": 20,
     "values": [
      "4"
     ],
     "layerId": 1,
     "layerName": "BOUNDARY"
    }
   ],
   "layerId": 1,
   "layerName": "BOUNDARY",
   "serviceItemId": "15520ccbda92405abbfc464ed080cd9c"
  },
  {
   "id": 2,
   "name": "CENTERLINE",
   "parentLayerId": -1,
   "defaultVisibility": true,
   "subLayerIds": null,
   "minScale": 400000,
   "maxScale": 0,
   "type": "Feature Layer",
   "geometryType": "esriGeometryPolyline",
   "supportsDynamicLegends": true,
   "legend": [
    {
     "label": "INTERSTATE,YES",
     "imageData": "iVBORw0KGgoAAAANSUhEUgAAABQAAAAUCAYAAACNiR0NAAAACXBIWXMAAA7EAAAOxAGVKw4bAAAARklEQVQ4jWNhoDJgGTWQYsAyQg18fqjuPzUMk7RrYmQBGSahJUEN8xhAZlHfy5J2TYxU9TIDlMEwspINNQELVU1jGJEGAgCoJxCr7GDVZQAAAABJRU5ErkJggg==",
     "contentType": "image/png",
     "groupId": "0",
     "height": 20,
     "width": 20,
     "values": [
      "5,YES"
     ],
     "layerId": 2,
     "layerName": "CENTERLINE"
    },
    {
     "label": "TOLL_HIGHWAY,YES",
     "imageData": "iVBORw0KGgoAAAANSUhEUgAAABQAAAAUCAYAAACNiR0NAAAACXBIWXMAAA7EAAAOxAGVKw4bAAAARklEQVQ4jWNhoDJgGTWQYsAyQg306Iz7Tw3DdpQvYmQBGZYdnsVAJfCf+l7eUb6IEWQy1bzMAGUwjKxkQ03AQlXTGEakgQCV3A8fbj976QAAAABJRU5ErkJggg==",
     "contentType": "image/png",
     "groupId": "0",
     "height": 20,
     "width": 20,
     "values": [
      "16,YES"
     ],
     "layerId": 2,
     "layerName": "CENTERLINE"
    },
    {
     "label": "STATE_HIGHWAY,YES",
     "imageData": "iVBORw0KGgoAAAANSUhEUgAAABQAAAAUCAYAAACNiR0NAAAACXBIWXMAAA7EAAAOxAGVKw4bAAAASklEQVQ4jWNhoDJgGTWQYsAyQg181pP6nxqGSZXMZmQBGSYZlUUN8xieMTD8p76XpUpmM4JMppqXGaAMhpGVbKgJWKhqGsOINBAAMjMPTNruMuIAAAAASUVORK5CYII=",
     "contentType": "image/png",
     "groupId": "0",
     "height": 20,
     "width": 20,
     "values": [
      "4,YES"
     ],
     "layerId": 2,
     "layerName": "CENTERLINE"
    },
    {
     "label": "US_HIGHWAY,YES",
     "imageData": "iVBORw0KGgoAAAANSUhEUgAAABQAAAAUCAYAAACNiR0NAAAACXBIWXMAAA7EAAAOxAGVKw4bAAAASklEQVQ4jWNhoDJgGTWQYsAyQg3cHGn8nxqG+S4/y8gCMszYwYEa5jFsZmD4T30v+y4/ywgymWpeZoAyGEZWsqEmYKGqaQwj0kAA46kP7GBIKWMAAAAASUVORK5CYII=",
     "contentType": "image/png",
     "groupId": "0",
     "height": 20,
     "width": 20,
     "values": [
      "3,YES"
     ],
     "layerId": 2,
     "layerName": "CENTERLINE"
    },
    {
     "label": "LOCAL_ROAD,YES",
     "imageData": "iVBORw0KGgoAAAANSUhEUgAAABQAAAAUCAYAAACNiR0NAAAACXBIWXMAAA7EAAAOxAGVKw4bAAAAR0lEQVQ4jWNhoDJgGTWQYsAygg00MTH5T4lBZ86cYYQb+PDhQ4oMg4L/8vLyjLTxsry8PCNVvYwsMIKSDbUAC9VMYhixBgIABRcQEx7WZX0AAAAASUVORK5CYII=",
     "contentType": "image/png",
     "groupId": "0",
     "height": 20,
     "width": 20,
     "values": [
      "1,YES"
     ],
     "layerId": 2,
     "layerName": "CENTERLINE"
    },
    {
     "label": "COUNTY_ROAD,YES",
     "imageData": "iVBORw0KGgoAAAANSUhEUgAAABQAAAAUCAYAAACNiR0NAAAACXBIWXMAAA7EAAAOxAGVKw4bAAAAR0lEQVQ4jWNhoDJgGTWQYsAygg00MTH5T4lBZ86cYYQb+PDhQ4oMg4L/8vLyjLTxsry8PCNVvYwsMIKSDbUAC9VMYhixBgIABRcQEx7WZX0AAAAASUVORK5CYII=",
     "contentType": "image/png",
     "groupId": "0",
     "height": 20,
     "width": 20,
     "values": [
      "2,YES"
     ],
     "layerId": 2,
     "layerName": "CENTERLINE"
    },
    {
     "label": "RAMP,YES",
     "imageData": "iVBORw0KGgoAAAANSUhEUgAAABQAAAAUCAYAAACNiR0NAAAACXBIWXMAAA7EAAAOxAGVKw4bAAAAR0lEQVQ4jWNhoDJgGTWQYsAygg00MTH5T4lBZ86cYYQb+PDhQ4oMg4L/8vLyjLTxsry8PCNVvYwsMIKSDbUAC9VMYhixBgIABRcQEx7WZX0AAAAASUVORK5CYII=",
     "contentType": "image/png",
     "groupId": "0",
     "height": 20,
     "width": 20,
     "values": [
      "8,YES"
     ],
     "layerId": 2,
     "layerName": "CENTERLINE"
    },
    {
     "label": "ROUNDABOUT,YES",
     "imageData": "iVBORw0KGgoAAAANSUhEUgAAABQAAAAUCAYAAACNiR0NAAAACXBIWXMAAA7EAAAOxAGVKw4bAAAAR0lEQVQ4jWNhoDJgGTWQYsAygg00MTH5T4lBZ86cYYQb+PDhQ4oMg4L/8vLyjLTxsry8PCNVvYwsMIKSDbUAC9VMYhixBgIABRcQEx7WZX0AAAAASUVORK5CYII=",
     "contentType": "image/png",
     "groupId": "0",
     "height": 20,
     "width": 20,
     "values": [
      "13,YES"
     ],
     "layerId": 2,
     "layerName": "CENTERLINE"
    },
    {
     "label": "US_HIGHWAY,NO",
     "imageData": "iVBORw0KGgoAAAANSUhEUgAAABQAAAAUCAYAAACNiR0NAAAACXBIWXMAAA7EAAAOxAGVKw4bAAAASklEQVQ4jWNhoDJgGTWQYsAyQg3cHGn8nxqG+S4/y8gCMszYwYEa5jFsZmD4T30v+y4/ywgymWpeZoAyGEZWsqEmYKGqaQwj0kAA46kP7GBIKWMAAAAASUVORK5CYII=",
     "contentType": "image/png",
     "groupId": "0",
     "height": 20,
     "width": 20,
     "values": [
      "3,NO"
     ],
     "layerId": 2,
     "layerName": "CENTERLINE"
    },
    {
     "label": "LOCAL_ROAD,NO",
     "imageData": "iVBORw0KGgoAAAANSUhEUgAAABQAAAAUCAYAAACNiR0NAAAACXBIWXMAAA7EAAAOxAGVKw4bAAAAPUlEQVQ4jWNhoDJgGTWQYsBCuRGoYNRAKoXhmTNn/lPBLAYTExNGFhiDgUqAhVoGwcCogZQDFiqYMcQMBAAuOgTultTyzQAAAABJRU5ErkJggg==",
     "contentType": "image/png",
     "groupId": "0",
     "height": 20,
     "width": 20,
     "values": [
      "1,NO"
     ],
     "layerId": 2,
     "layerName": "CENTERLINE"
    },
    {
     "label": "COUNTY_ROAD,NO",
     "imageData": "iVBORw0KGgoAAAANSUhEUgAAABQAAAAUCAYAAACNiR0NAAAACXBIWXMAAA7EAAAOxAGVKw4bAAAAO0lEQVQ4jWNhoDJgGTWQYsBCuRGoYKQa+Pfv3//UMIyZmZmRNi5kZmZmpKqB1AQsVDWNYdRAaoDBHykA/FoEW6+4LmcAAAAASUVORK5CYII=",
     "contentType": "image/png",
     "groupId": "0",
     "height": 20,
     "width": 20,
     "values": [
      "2,NO"
     ],
     "layerId": 2,
     "layerName": "CENTERLINE"
    },
    {
     "label": "RAMP,NO",
     "imageData": "iVBORw0KGgoAAAANSUhEUgAAABQAAAAUCAYAAACNiR0NAAAACXBIWXMAAA7EAAAOxAGVKw4bAAAARklEQVQ4jWNhoDJgGTWQYsAyQg3cuX3nf2oY5u7pzsgCMszNw40a5jGAzKK+l9093Rmp6mUGKINhZCUbagIWqprGMCINBABRwREl+at7awAAAABJRU5ErkJggg==",
     "contentType": "image/png",
     "groupId": "0",
     "height": 20,
     "width": 20,
     "values": [
      "8,NO"
     ],
     "layerId": 2,
     "layerName": "CENTERLINE"
    },
    {
     "label": "EASEMENT,NO",
     "imageData": "iVBORw0KGgoAAAANSUhEUgAAABQAAAAUCAYAAACNiR0NAAAACXBIWXMAAA7EAAAOxAGVKw4bAAAAQUlEQVQ4jWNhoDJgGTWQYsAyAg28Pm/ef6oayMDAwKAWH08Vw24tXEijMLy1cCH1DNRMSmIcYcmGYdRASgHVwxAAxxMJbX+GvOMAAAAASUVORK5CYII=",
     "contentType": "image/png",
     "groupId": "0",
     "height": 20,
     "width": 20,
     "values": [
      "9,NO"
     ],
     "layerId": 2,
     "layerName": "CENTERLINE"
    },
    {
     "label": "ROUNDABOUT,NO",
     "imageData": "iVBORw0KGgoAAAANSUhEUgAAABQAAAAUCAYAAACNiR0NAAAACXBIWXMAAA7EAAAOxAGVKw4bAAAAO0lEQVQ4je3QIQ4AMAxCUZZy/xuTTVVUg1nSr1BPQITjgnb0idmCoQ8l3YCFqjrsgVBMQd2CfgwYn4EPuEsEW6gn6K0AAAAASUVORK5CYII=",
     "contentType": "image/png",
     "groupId": "0",
     "height": 20,
     "width": 20,
     "values": [
      "13,NO"
     ],
     "layerId": 2,
     "layerName": "CENTERLINE"
    },
    {
     "label": "GATED_COMMUNITY,NO",
     "imageData": "iVBORw0KGgoAAAANSUhEUgAAABQAAAAUCAYAAACNiR0NAAAACXBIWXMAAA7EAAAOxAGVKw4bAAAAXElEQVQ4jWNhoDJgGTWQYsAygg28vmHef0oM0gxIYoQbiGyYhn8iisIbG+ej8HHJX98w7z/IUNp4WTMgiRHmSnQXoQNc8prIXkYWoIoLqQlYqGoaw6iB1ABUjxQAly0bfRBJzpkAAAAASUVORK5CYII=",
     "contentType": "image/png",
     "groupId": "0",
     "height": 20,
     "width": 20,
     "values": [
      "15,NO"
     ],
     "layerId": 2,
     "layerName": "CENTERLINE"
    }
   ],
   "layerId": 2,
   "layerName": "CENTERLINE",
   "serviceItemId": "15520ccbda92405abbfc464ed080cd9c"
  },
  {
   "id": 3,
   "name": "DC_BNDY",
   "parentLayerId": -1,
   "defaultVisibility": true,
   "subLayerIds": null,
   "minScale": 0,
   "maxScale": 0,
   "type": "Feature Layer",
   "geometryType": "esriGeometryPolygon",
   "supportsDynamicLegends": true,
   "legend": [
    {
     "label": "",
     "imageData": "iVBORw0KGgoAAAANSUhEUgAAABQAAAAUCAYAAACNiR0NAAAACXBIWXMAAA7EAAAOxAGVKw4bAAAAQElEQVQ4jWNpYVjxn4GKgIWahqEYWMMQwchAJmhB8iXtXEgtwEI1k6Bg1EDKAQsVzEABowaOqDBsoVJBO/i9DAAunAencQlhnAAAAABJRU5ErkJggg==",
     "contentType": "image/png",
     "groupId": "0",
     "height": 20,
     "width": 20,
     "layerId": 3,
     "layerName": "DC_BNDY"
    }
   ],
   "layerId": 3,
   "layerName": "DC_BNDY",
   "serviceItemId": "15520ccbda92405abbfc464ed080cd9c"
  },
  {
   "id": 4,
   "name": "PARCELS",
   "parentLayerId": -1,
   "defaultVisibility": true,
   "subLayerIds": null,
   "minScale": 7500,
   "maxScale": 0,
   "type": "Feature Layer",
   "geometryType": "esriGeometryPolygon",
   "supportsDynamicLegends": true,
   "legend": [
    {
     "label": "",
     "imageData": "iVBORw0KGgoAAAANSUhEUgAAABQAAAAUCAYAAACNiR0NAAAACXBIWXMAAA7EAAAOxAGVKw4bAAAAP0lEQVQ4jWMp3vT/PwMVAQuI6PVjZKSGYcWb/v8HG0hNwDJqIMWAhXIjUMGogZQDFiqYgQJGDRwxYVhMxWoAANw7CpehngPGAAAAAElFTkSuQmCC",
     "contentType": "image/png",
     "groupId": "0",
     "height": 20,
     "width": 20,
     "layerId": 4,
     "layerName": "PARCELS"
    }
   ],
   "layerId": 4,
   "layerName": "PARCELS",
   "serviceItemId": "15520ccbda92405abbfc464ed080cd9c"
  },
  {
   "id": 5,
   "name": "TOWNS",
   "parentLayerId": -1,
   "defaultVisibility": true,
   "subLayerIds": null,
   "minScale": 0,
   "maxScale": 0,
   "type": "Feature Layer",
   "geometryType": "esriGeometryPolygon",
   "supportsDynamicLegends": true,
   "legend": [
    {
     "label": "",
     "imageData": "iVBORw0KGgoAAAANSUhEUgAAABQAAAAUCAYAAACNiR0NAAAACXBIWXMAAA7EAAAOxAGVKw4bAAAAPUlEQVQ4je3QoREAMAxCUQRbsGyXZY9eLyo6uOYL5BMQwEEwvrEdwSQVmIwLjuOc6C04jwGjteA3H0qKiRcxWQQiBsHzdAAAAABJRU5ErkJggg==",
     "contentType": "image/png",
     "groupId": "0",
     "height": 20,
     "width": 20,
     "layerId": 5,
     "layerName": "TOWNS"
    }
   ],
   "layerId": 5,
   "layerName": "TOWNS",
   "serviceItemId": "15520ccbda92405abbfc464ed080cd9c"
  },
  {
   "id": 6,
   "name": "PARKS",
   "parentLayerId": -1,
   "defaultVisibility": true,
   "subLayerIds": null,
   "minScale": 0,
   "maxScale": 0,
   "type": "Feature Layer",
   "geometryType": "esriGeometryPolygon",
   "supportsDynamicLegends": true,
   "legend": [
    {
     "label": "Pike National Forest",
     "imageData": "iVBORw0KGgoAAAANSUhEUgAAABQAAAAUCAYAAACNiR0NAAAACXBIWXMAAA7EAAAOxAGVKw4bAAAAPklEQVQ4jWOxWM7QwEBFwAIiqg3mUsWw1gvJEAOpCVhGDaQYsFBuBCoYNZBywEIFM1DAqIEjJgxbLyRTzUQAt6EGaKMQG5AAAAAASUVORK5CYII=",
     "contentType": "image/png",
     "groupId": "0",
     "height": 20,
     "width": 20,
     "values": [
      "NF"
     ],
     "layerId": 6,
     "layerName": "PARKS"
    },
    {
     "label": "State/Regional Park",
     "imageData": "iVBORw0KGgoAAAANSUhEUgAAABQAAAAUCAYAAACNiR0NAAAACXBIWXMAAA7EAAAOxAGVKw4bAAAAP0lEQVQ4jWM5OLOqgYGKgAVEKLm4UsWwe3t2QwykJmAZNZBiwEK5Eahg1EDKAQsVzEABowaOmDC8t2c31UwEAMZcB/ree61GAAAAAElFTkSuQmCC",
     "contentType": "image/png",
     "groupId": "0",
     "height": 20,
     "width": 20,
     "values": [
      "REC"
     ],
     "layerId": 6,
     "layerName": "PARKS"
    },
    {
     "label": "Local Park",
     "imageData": "iVBORw0KGgoAAAANSUhEUgAAABQAAAAUCAYAAACNiR0NAAAACXBIWXMAAA7EAAAOxAGVKw4bAAAAPklEQVQ4jWNhWN7cwEBFwAIijodFUMUwy1UrIAZSE7CMGkgxYKHcCFQwaiDlgIUKZqCAUQNHTBharlpBNRMBj/IGhlWDACEAAAAASUVORK5CYII=",
     "contentType": "image/png",
     "groupId": "0",
     "height": 20,
     "width": 20,
     "values": [
      "PRK",
      "EQU"
     ],
     "layerId": 6,
     "layerName": "PARKS"
    }
   ],
   "layerId": 6,
   "layerName": "PARKS",
   "serviceItemId": "15520ccbda92405abbfc464ed080cd9c"
  },
  {
   "id": 7,
   "name": "HYDRO_STREAMS",
   "parentLayerId": -1,
   "defaultVisibility": true,
   "subLayerIds": null,
   "minScale": 50000,
   "maxScale": 0,
   "type": "Feature Layer",
   "geometryType": "esriGeometryPolyline",
   "supportsDynamicLegends": true,
   "legend": [
    {
     "label": "",
     "imageData": "iVBORw0KGgoAAAANSUhEUgAAABQAAAAUCAYAAACNiR0NAAAACXBIWXMAAA7EAAAOxAGVKw4bAAAAPUlEQVQ4jWNhoDJgGTWQYsBCuRGoYNRAKoXhvkv//1PBLAYnPUZGFhiDgUqAhVoGwcCogZQDFiqYMcQMBADBEwTD/MwchwAAAABJRU5ErkJggg==",
     "contentType": "image/png",
     "groupId": "0",
     "height": 20,
     "width": 20,
     "layerId": 7,
     "layerName": "HYDRO_STREAMS"
    }
   ],
   "layerId": 7,
   "layerName": "HYDRO_STREAMS",
   "serviceItemId": "15520ccbda92405abbfc464ed080cd9c"
  },
  {
   "id": 8,
   "name": "HYDRO_LAKES",
   "parentLayerId": -1,
   "defaultVisibility": true,
   "subLayerIds": null,
   "minScale": 0,
   "maxScale": 0,
   "type": "Feature Layer",
   "geometryType": "esriGeometryPolygon",
   "supportsDynamicLegends": true,
   "legend": [
    {
     "label": "Reservoir",
     "imageData": "iVBORw0KGgoAAAANSUhEUgAAABQAAAAUCAYAAACNiR0NAAAACXBIWXMAAA7EAAAOxAGVKw4bAAAAOElEQVQ4jWPZe/F/AwMVAQuYFKOSaa9gBlIRsIwaSDFgodwIVDBqIOWAhQpmoIBRA0dOGL6inokAWEgFSKxRfUAAAAAASUVORK5CYII=",
     "contentType": "image/png",
     "groupId": "0",
     "height": 20,
     "width": 20,
     "values": [
      "Chatfield Reservoir",
      "Cheesman Reservoir",
      "Rueter-Hess Reservoir",
      "Strontia Springs Reservoir"
     ],
     "layerId": 8,
     "layerName": "HYDRO_LAKES"
    },
    {
     "label": "Water Body",
     "imageData": "iVBORw0KGgoAAAANSUhEUgAAABQAAAAUCAYAAACNiR0NAAAACXBIWXMAAA7EAAAOxAGVKw4bAAAAOElEQVQ4jWPZe/F/AwMVAQuYFKOSaa9gBlIRsIwaSDFgodwIVDBqIOWAhQpmoIBRA0dOGL6inokAWEgFSKxRfUAAAAAASUVORK5CYII=",
     "contentType": "image/png",
     "groupId": "0",
     "height": 20,
     "width": 20,
     "values": [
      " Flood Storage",
      "Flood Storage",
      "Flood Storage ",
      "lake"
     ],
     "layerId": 8,
     "layerName": "HYDRO_LAKES"
    },
    {
     "label": "",
     "imageData": "iVBORw0KGgoAAAANSUhEUgAAABQAAAAUCAYAAACNiR0NAAAACXBIWXMAAA7EAAAOxAGVKw4bAAAAPklEQVQ4jWPJy8trYKAiYAERwsLCVDHs7du3EAOpCVhGDaQYsFBuBCoYNZBywEIFM1DAqIEjJgzfvn1LNRMBXucH4lubfBUAAAAASUVORK5CYII=",
     "contentType": "image/png",
     "groupId": "1",
     "height": 20,
     "width": 20,
     "layerId": 8,
     "layerName": "HYDRO_LAKES"
    }
   ],
   "layerId": 8,
   "layerName": "HYDRO_LAKES",
   "serviceItemId": "15520ccbda92405abbfc464ed080cd9c"
  },
  {
   "id": 9,
   "name": "pictometry25",
   "parentLayerId": -1,
   "defaultVisibility": true,
   "subLayerIds": [
    10,
    11,
    12
   ],
   "minScale": 0,
   "maxScale": 0,
   "type": "Mosaic Layer",
   "supportsDynamicLegends": false,
   "layerId": 9,
   "layerName": "pictometry25",
   "serviceItemId": "15520ccbda92405abbfc464ed080cd9c"
  },
  {
   "id": 10,
   "name": "Boundary",
   "parentLayerId": 9,
   "defaultVisibility": false,
   "subLayerIds": null,
   "minScale": 0,
   "maxScale": 0,
   "type": "Feature Layer",
   "geometryType": "esriGeometryPolygon",
   "supportsDynamicLegends": true,
   "legend": [
    {
     "label": "",
     "imageData": "iVBORw0KGgoAAAANSUhEUgAAABQAAAAUCAYAAACNiR0NAAAACXBIWXMAAA7EAAAOxAGVKw4bAAAAO0lEQVQ4je3VIQ4AMAxCUZZw/yuzrK4a3HhpKr+oKQUIQXzrzPgEaIJJbNBGP7E16GOgsTT4zQ0VfAMXpesGTbdHvcEAAAAASUVORK5CYII=",
     "contentType": "image/png",
     "groupId": "0",
     "height": 20,
     "width": 20,
     "layerId": 10,
     "layerName": "Boundary"
    }
   ],
   "layerId": 10,
   "layerName": "Boundary",
   "serviceItemId": "15520ccbda92405abbfc464ed080cd9c"
  },
  {
   "id": 11,
   "name": "Footprint",
   "parentLayerId": 9,
   "defaultVisibility": false,
   "subLayerIds": null,
   "minScale": 0,
   "maxScale": 0,
   "type": "Feature Layer",
   "geometryType": "esriGeometryPolygon",
   "supportsDynamicLegends": true,
   "legend": [
    {
     "label": "",
     "imageData": "iVBORw0KGgoAAAANSUhEUgAAABQAAAAUCAYAAACNiR0NAAAACXBIWXMAAA7EAAAOxAGVKw4bAAAAO0lEQVQ4je3VIQ4AMAxCUZpw/yuzZFPV4MYXlU9gSghCMN47mIgm6IHBWNCOPrEr6MeAsSr4z4bKvYEDou0GTfPqtc0AAAAASUVORK5CYII=",
     "contentType": "image/png",
     "groupId": "0",
     "height": 20,
     "width": 20,
     "layerId": 11,
     "layerName": "Footprint"
    }
   ],
   "layerId": 11,
   "layerName": "Footprint",
   "serviceItemId": "15520ccbda92405abbfc464ed080cd9c"
  },
  {
   "id": 12,
   "name": "Image",
   "parentLayerId": 9,
   "defaultVisibility": true,
   "subLayerIds": null,
   "minScale": 0,
   "maxScale": 0,
   "type": "Raster Layer",
   "supportsDynamicLegends": true,
   "legend": [
    {
     "label": "Red: Red",
     "imageData": "iVBORw0KGgoAAAANSUhEUgAAABQAAAAUCAYAAACNiR0NAAAACXBIWXMAAA7EAAAOxAGVKw4bAAAAOklEQVQ4jWNhoDJgoZmB/8GIfMAIRrR0IbUAC9VMgoJRAykHLFQwAwWMGkg5YBnBBjJCyzOqGUgtAABgfwJTnasaYgAAAABJRU5ErkJggg==",
     "contentType": "image/png",
     "groupId": "0",
     "height": 20,
     "width": 20,
     "layerId": 12,
     "layerName": "Image"
    },
    {
     "label": "Green: Green",
     "imageData": "iVBORw0KGgoAAAANSUhEUgAAABQAAAAUCAYAAACNiR0NAAAACXBIWXMAAA7EAAAOxAGVKw4bAAAAPElEQVQ4je3UoQ0AMBBCUS5h/5WvpkmDhjr+AE8gIMLxH7hYSxqMgqFY0I4+oRX0Y8CQCvq9De+f5cBQB19+AlPZl25RAAAAAElFTkSuQmCC",
     "contentType": "image/png",
     "groupId": "0",
     "height": 20,
     "width": 20,
     "layerId": 12,
     "layerName": "Image"
    },
    {
     "label": "Blue: Blue",
     "imageData": "iVBORw0KGgoAAAANSUhEUgAAABQAAAAUCAYAAACNiR0NAAAACXBIWXMAAA7EAAAOxAGVKw4bAAAAPElEQVQ4jWNhoDJgoaGB//9TZhQjI5qB1AEsowZSDFgoNwIVjBpIOWChghkoYNRAygFSGELKMyoaSB0AAF59AlO8NYpcAAAAAElFTkSuQmCC",
     "contentType": "image/png",
     "groupId": "0",
     "height": 20,
     "width": 20,
     "layerId": 12,
     "layerName": "Image"
    }
   ],
   "layerId": 12,
   "layerName": "Image",
   "serviceItemId": "15520ccbda92405abbfc464ed080cd9c"
  }
 ],
 "initialExtent": {
  "xmin": -1.1756864381352955E7,
  "ymin": 4729525.340515403,
  "xmax": -1.1621608562447647E7,
  "ymax": 4811534.162359946,
  "spatialReference": {
   "wkid": 102100,
   "latestWkid": 3857
  }
 },
 "fullExtent": {
  "xmin": -1.1756864381352955E7,
  "ymin": 4729525.340515403,
  "xmax": -1.1621608562447647E7,
  "ymax": 4811534.162359946,
  "spatialReference": {
   "wkid": 102100,
   "latestWkid": 3857
  }
 },
 "minScale": 147914382,
 "maxScale": 0,
 "exportTilesAllowed": true,
 "maxExportTilesCount": 100000,
 "currentVersion": 11.5,
 "mapName": "Aerial",
 "singleFusedMapCache": true,
 "type": "MapServer",
 "supportedExtensions": "",
 "capabilities": "TilesOnly,Tilemap",
 "serviceItemId": "15520ccbda92405abbfc464ed080cd9c"
}
