{
 "version": 1.0,
 "tileBundlesPath": "./tile",
 "storageInfo": {
  "packetSize": 128,
  "storageFormat": "esriMapCacheStorageModeCompactV2"
 },
 "tileImageInfo": {
  "format": "JPEG",
  "compressionQuality": 75,
  "bandCount": 1,
  "lercError": 0
 },
 "tileInfo": {
  "spatialReference": {
   "wkid": 102100,
   "latestWkid": 3857
  },
  "origin": {
   "x": -2.0037508342787E7,
   "y": 2.0037508342787E7
  },
  "rows": 256,
  "cols": 256,
  "dpi": 96,
  "lods": [
   {
    "level": 0,
    "resolution": 156543.033928,
    "scale": 5.91657527591555E8
   },
   {
    "level": 1,
    "resolution": 78271.5169639999,
    "scale": 2.95828763795777E8
   },
   {
    "level": 2,
    "resolution": 39135.7584820001,
    "scale": 1.47914381897889E8
   },
   {
    "level": 3,
    "resolution": 19567.8792409999,
    "scale": 7.3957190948944E7
   },
   {
    "level": 4,
    "resolution": 9783.93962049996,
    "scale": 3.6978595474472E7
   },
   {
    "level": 5,
    "resolution": 4891.96981024998,
    "scale": 1.8489297737236E7
   },
   {
    "level": 6,
    "resolution": 2445.98490512499,
    "scale": 9244648.868618
   },
   {
    "level": 7,
    "resolution": 1222.99245256249,
    "scale": 4622324.434309
   },
   {
    "level": 8,
    "resolution": 611.49622628138,
    "scale": 2311162.217155
   },
   {
    "level": 9,
    "resolution": 305.748113140558,
    "scale": 1155581.108577
   },
   {
    "level": 10,
    "resolution": 152.874056570411,
    "scale": 577790.554289
   },
   {
    "level": 11,
    "resolution": 76.4370282850732,
    "scale": 288895.277144
   },
   {
    "level": 12,
    "resolution": 38.2185141425366,
    "scale": 144447.638572
   },
   {
    "level": 13,
    "resolution": 19.1092570712683,
    "scale": 72223.819286
   },
   {
    "level": 14,
    "resolution": 9.55462853563415,
    "scale": 36111.909643
   },
   {
    "level": 15,
    "resolution": 4.77731426794937,
    "scale": 18055.954822
   },
   {
    "level": 16,
    "resolution": 2.38865713397468,
    "scale": 9027.977411
   },
   {
    "level": 17,
    "resolution": 1.19432856685505,
    "scale": 4513.988705
   },
   {
    "level": 18,
    "resolution": 0.597164283559817,
    "scale": 2256.994353
   },
   {
    "level": 19,
    "resolution": 0.298582141647617,
    "scale": 1128.497176
   },
   {
    "level": 20,
    "resolution": 0.14929107082380833,
    "scale": 564.248588
   },
   {
    "level": 21,
    "resolution": 0.07464553541190416,
    "scale": 282.124294
   },
   {
    "level": 22,
    "resolution": 0.03732276770595208,
    "scale": 141.062147
   },
   {
    "level": 23,
    "resolution": 0.01866138385297604,
    "scale": 70.5310735
   }
  ],
  "format": "JPEG",
  "compressionQuality": 75,
  "bandCount": 1,
  "lercError": 0,
  "storageFormat": "esriMapCacheStorageModeCompactV2",
  "packetSize": 128
 },
 "name": "Map",
 "serviceDescription": "",
 "spatialReference": {
  "wkid": 102100,
  "latestWkid": 3857,
  "xyTolerance": 0.001,
  "zTolerance": 0.001,
  "mTolerance": 0.001,
  "falseX": -20037700,
  "falseY": -30241100,
  "xyUnits": 1.4892314192838538E8,
  "falseZ": -100000,
  "zUnits": 10000,
  "falseM": -100000,
  "mUnits": 10000
 },
 "units": "esriMeters",
 "minLOD": 0,
 "maxLOD": 19,
 "resampling": true,
 "layers": [
  {
   "id": 0,
   "name": "New Group Layer",
   "parentLayerId": -1,
   "defaultVisibility": true,
   "subLayerIds": [
    1
   ],
   "minScale": 0,
   "maxScale": 0,
   "type": "Group Layer",
   "supportsDynamicLegends": false,
   "layerId": 0,
   "layerName": "New Group Layer",
   "serviceItemId": "451edf8fa40746ae9ef5ca5fdcc58386"
  },
  {
   "id": 1,
   "name": "ENTAGE.ADDRESSSEARCH_BVW",
   "parentLayerId": 0,
   "defaultVisibility": true,
   "subLayerIds": null,
   "minScale": 2256.994353,
   "maxScale": 0,
   "type": "Feature Layer",
   "geometryType": "esriGeometryPoint",
   "supportsDynamicLegends": true,
   "legend": [
    {
     "label": "",
     "imageData": "iVBORw0KGgoAAAANSUhEUgAAABQAAAAUCAYAAACNiR0NAAAACXBIWXMAAA7EAAAOxAGVKw4bAAAAKklEQVQ4je3MIQEAAAzDsIP613w83MFFQLgyFmr4Ii30KBxhoUfhCAtPexArAFF5acCuAAAAAElFTkSuQmCC",
     "contentType": "image/png",
     "groupId": "0",
     "height": 20,
     "width": 20,
     "layerId": 1,
     "layerName": "ENTAGE.ADDRESSSEARCH_BVW"
    }
   ],
   "layerId": 1,
   "layerName": "ENTAGE.ADDRESSSEARCH_BVW",
   "serviceItemId": "451edf8fa40746ae9ef5ca5fdcc58386"
  },
  {
   "id": 2,
   "name": "Create Map Tile Package Extent",
   "parentLayerId": -1,
   "defaultVisibility": false,
   "subLayerIds": null,
   "minScale": 0,
   "maxScale": 0,
   "type": "Feature Layer",
   "geometryType": "esriGeometryPolygon",
   "supportsDynamicLegends": true,
   "legend": [
    {
     "label": "",
     "imageData": "iVBORw0KGgoAAAANSUhEUgAAABQAAAAUCAYAAACNiR0NAAAACXBIWXMAAA7EAAAOxAGVKw4bAAAAQklEQVQ4jWNh8F3xn4GKgAVEKGhzO1LDsAdXv+4HG0hNwDJqIMWAhXIjUMGogZQDFiqYgQJGDRwxYfjg6tf91DIRAGJxCa5FcX1BAAAAAElFTkSuQmCC",
     "contentType": "image/png",
     "groupId": "0",
     "height": 20,
     "width": 20,
     "layerId": 2,
     "layerName": "Create Map Tile Package Extent"
    }
   ],
   "layerId": 2,
   "layerName": "Create Map Tile Package Extent",
   "serviceItemId": "451edf8fa40746ae9ef5ca5fdcc58386"
  },
  {
   "id": 3,
   "name": "ENTAGE.DC_BNDY",
   "parentLayerId": -1,
   "defaultVisibility": true,
   "subLayerIds": null,
   "minScale": 0,
   "maxScale": 0,
   "type": "Feature Layer",
   "geometryType": "esriGeometryPolygon",
   "supportsDynamicLegends": true,
   "legend": [
    {
     "label": "",
     "imageData": "iVBORw0KGgoAAAANSUhEUgAAABQAAAAUCAYAAACNiR0NAAAACXBIWXMAAA7EAAAOxAGVKw4bAAAAPElEQVQ4je3UsQ0AMAgDQUfy/itDG2j9JT/AFVjCkkpgJrENPmXVBpF8YJxzYnZgngFjdGDef0Pkc+OjNFY5A08ULLdDAAAAAElFTkSuQmCC",
     "contentType": "image/png",
     "groupId": "0",
     "height": 20,
     "width": 20,
     "layerId": 3,
     "layerName": "ENTAGE.DC_BNDY"
    }
   ],
   "layerId": 3,
   "layerName": "ENTAGE.DC_BNDY",
   "serviceItemId": "451edf8fa40746ae9ef5ca5fdcc58386"
  },
  {
   "id": 4,
   "name": "ENTAGE.TAX_AUTHORITIES_CITIES",
   "parentLayerId": -1,
   "defaultVisibility": true,
   "subLayerIds": null,
   "minScale": 0,
   "maxScale": 0,
   "type": "Feature Layer",
   "geometryType": "esriGeometryPolygon",
   "supportsDynamicLegends": true,
   "legend": [
    {
     "label": "AURORA",
     "imageData": "iVBORw0KGgoAAAANSUhEUgAAABQAAAAUCAYAAACNiR0NAAAACXBIWXMAAA7EAAAOxAGVKw4bAAAAPklEQVQ4jWPJz89PZaAiYAERPo0TqGLYlvoCiIHUBCyjBlIMWCg3AhWMGkg5YKGCGShg1MARE4Zb6guoZiIAxDYGpsGNLokAAAAASUVORK5CYII=",
     "contentType": "image/png",
     "groupId": "0",
     "height": 20,
     "width": 20,
     "values": [
      "AURORA"
     ],
     "layerId": 4,
     "layerName": "ENTAGE.TAX_AUTHORITIES_CITIES"
    },
    {
     "label": "CASTLE PINES",
     "imageData": "iVBORw0KGgoAAAANSUhEUgAAABQAAAAUCAYAAACNiR0NAAAACXBIWXMAAA7EAAAOxAGVKw4bAAAAPklEQVQ4jWPJz89PZaAiYAERE1y6qWJYwZ5SiIHUBCyjBlIMWCg3AhWMGkg5YKGCGShg1MARE4YFe0qpZiIAw+cGpPOpBSEAAAAASUVORK5CYII=",
     "contentType": "image/png",
     "groupId": "0",
     "height": 20,
     "width": 20,
     "values": [
      "CASTLE PINES"
     ],
     "layerId": 4,
     "layerName": "ENTAGE.TAX_AUTHORITIES_CITIES"
    },
    {
     "label": "CASTLE ROCK",
     "imageData": "iVBORw0KGgoAAAANSUhEUgAAABQAAAAUCAYAAACNiR0NAAAACXBIWXMAAA7EAAAOxAGVKw4bAAAAPklEQVQ4jWPJz89PZaAiYAERvW0uVDGsuGoPxEBqApZRAykGLJQbgQpGDaQcsFDBDBQwauCICcPiqj1UMxEAw7sGrHIiEuAAAAAASUVORK5CYII=",
     "contentType": "image/png",
     "groupId": "0",
     "height": 20,
     "width": 20,
     "values": [
      "CASTLE ROCK"
     ],
     "layerId": 4,
     "layerName": "ENTAGE.TAX_AUTHORITIES_CITIES"
    },
    {
     "label": "LARKSPUR",
     "imageData": "iVBORw0KGgoAAAANSUhEUgAAABQAAAAUCAYAAACNiR0NAAAACXBIWXMAAA7EAAAOxAGVKw4bAAAAPklEQVQ4jWPJz89PZaAiYAERvQlxVDGseMEiiIHUBCyjBlIMWCg3AhWMGkg5YKGCGShg1MARE4bFCxZRzUQAw/kGuKXxpZIAAAAASUVORK5CYII=",
     "contentType": "image/png",
     "groupId": "0",
     "height": 20,
     "width": 20,
     "values": [
      "LARKSPUR"
     ],
     "layerId": 4,
     "layerName": "ENTAGE.TAX_AUTHORITIES_CITIES"
    },
    {
     "label": "LITTLETON",
     "imageData": "iVBORw0KGgoAAAANSUhEUgAAABQAAAAUCAYAAACNiR0NAAAACXBIWXMAAA7EAAAOxAGVKw4bAAAAPklEQVQ4jWPJz89PZaAiYAERPr0JVDFsS/ECiIHUBCyjBlIMWCg3AhWMGkg5YKGCGShg1MARE4ZbihdQzUQAxHIGys0otdIAAAAASUVORK5CYII=",
     "contentType": "image/png",
     "groupId": "0",
     "height": 20,
     "width": 20,
     "values": [
      "LITTLETON"
     ],
     "layerId": 4,
     "layerName": "ENTAGE.TAX_AUTHORITIES_CITIES"
    },
    {
     "label": "LONE TREE",
     "imageData": "iVBORw0KGgoAAAANSUhEUgAAABQAAAAUCAYAAACNiR0NAAAACXBIWXMAAA7EAAAOxAGVKw4bAAAAPklEQVQ4jWPJz89PZaAiYAERPhETqGLYlhUFEAOpCVhGDaQYsFBuBCoYNZBywEIFM1DAqIEjJgy3rCigmokAxLEGz8r+Gw0AAAAASUVORK5CYII=",
     "contentType": "image/png",
     "groupId": "0",
     "height": 20,
     "width": 20,
     "values": [
      "LONE TREE"
     ],
     "layerId": 4,
     "layerName": "ENTAGE.TAX_AUTHORITIES_CITIES"
    },
    {
     "label": "PARKER",
     "imageData": "iVBORw0KGgoAAAANSUhEUgAAABQAAAAUCAYAAACNiR0NAAAACXBIWXMAAA7EAAAOxAGVKw4bAAAAPklEQVQ4jWPJz89PZaAiYAERbakTqGJY1ewCiIHUBCyjBlIMWCg3AhWMGkg5YKGCGShg1MARE4ZVswuoZiIAw6IGiDwnkl4AAAAASUVORK5CYII=",
     "contentType": "image/png",
     "groupId": "0",
     "height": 20,
     "width": 20,
     "values": [
      "PARKER"
     ],
     "layerId": 4,
     "layerName": "ENTAGE.TAX_AUTHORITIES_CITIES"
    },
    {
     "label": "",
     "imageData": "iVBORw0KGgoAAAANSUhEUgAAABQAAAAUCAYAAACNiR0NAAAACXBIWXMAAA7EAAAOxAGVKw4bAAAAPklEQVQ4jWPJz89PZaAiYAERQkJCVDHs3bt3EAOpCVhGDaQYsFBuBCoYNZBywEIFM1DAqIEjJgzfvXtHNRMBx2cHzQSqeZ8AAAAASUVORK5CYII=",
     "contentType": "image/png",
     "groupId": "1",
     "height": 20,
     "width": 20,
     "layerId": 4,
     "layerName": "ENTAGE.TAX_AUTHORITIES_CITIES"
    }
   ],
   "layerId": 4,
   "layerName": "ENTAGE.TAX_AUTHORITIES_CITIES",
   "serviceItemId": "451edf8fa40746ae9ef5ca5fdcc58386"
  },
  {
   "id": 5,
   "name": "1:4,514",
   "parentLayerId": -1,
   "defaultVisibility": true,
   "subLayerIds": [
    6
   ],
   "minScale": 4513.988705,
   "maxScale": 0,
   "type": "Group Layer",
   "supportsDynamicLegends": false,
   "layerId": 5,
   "layerName": "1:4,514",
   "serviceItemId": "451edf8fa40746ae9ef5ca5fdcc58386"
  },
  {
   "id": 6,
   "name": "ENTAGE.PARCELS_BVW",
   "parentLayerId": 5,
   "defaultVisibility": true,
   "subLayerIds": null,
   "minScale": 0,
   "maxScale": 0,
   "type": "Feature Layer",
   "geometryType": "esriGeometryPolygon",
   "supportsDynamicLegends": true,
   "legend": [
    {
     "label": "",
     "imageData": "iVBORw0KGgoAAAANSUhEUgAAABQAAAAUCAYAAACNiR0NAAAACXBIWXMAAA7EAAAOxAGVKw4bAAAAPUlEQVQ4jWNhiHn2n4GKgAVMLpFipIppMc/+QwykImAZNZBiwEK5Eahg1EDKAQsVzEABowaOnDCMoV41AABF2AfTBu7ukQAAAABJRU5ErkJggg==",
     "contentType": "image/png",
     "groupId": "0",
     "height": 20,
     "width": 20,
     "layerId": 6,
     "layerName": "ENTAGE.PARCELS_BVW"
    }
   ],
   "layerId": 6,
   "layerName": "ENTAGE.PARCELS_BVW",
   "serviceItemId": "451edf8fa40746ae9ef5ca5fdcc58386"
  },
  {
   "id": 7,
   "name": "Pictometry23",
   "parentLayerId": -1,
   "defaultVisibility": true,
   "subLayerIds": [
    8,
    9,
    10
   ],
   "minScale": 0,
   "maxScale": 0,
   "type": "Mosaic Layer",
   "supportsDynamicLegends": false,
   "layerId": 7,
   "layerName": "Pictometry23",
   "serviceItemId": "451edf8fa40746ae9ef5ca5fdcc58386"
  },
  {
   "id": 8,
   "name": "Boundary",
   "parentLayerId": 7,
   "defaultVisibility": false,
   "subLayerIds": null,
   "minScale": 0,
   "maxScale": 0,
   "type": "Feature Layer",
   "geometryType": "esriGeometryPolygon",
   "supportsDynamicLegends": true,
   "legend": [
    {
     "label": "",
     "imageData": "iVBORw0KGgoAAAANSUhEUgAAABQAAAAUCAYAAACNiR0NAAAACXBIWXMAAA7EAAAOxAGVKw4bAAAAO0lEQVQ4je3VIQ4AMAxCUZZw/yuzrK4a3HhpKr+oKQUIQXzrzPgEaIJJbNBGP7E16GOgsTT4zQ0VfAMXpesGTbdHvcEAAAAASUVORK5CYII=",
     "contentType": "image/png",
     "groupId": "0",
     "height": 20,
     "width": 20,
     "layerId": 8,
     "layerName": "Boundary"
    }
   ],
   "layerId": 8,
   "layerName": "Boundary",
   "serviceItemId": "451edf8fa40746ae9ef5ca5fdcc58386"
  },
  {
   "id": 9,
   "name": "Footprint",
   "parentLayerId": 7,
   "defaultVisibility": false,
   "subLayerIds": null,
   "minScale": 0,
   "maxScale": 0,
   "type": "Feature Layer",
   "geometryType": "esriGeometryPolygon",
   "supportsDynamicLegends": true,
   "legend": [
    {
     "label": "",
     "imageData": "iVBORw0KGgoAAAANSUhEUgAAABQAAAAUCAYAAACNiR0NAAAACXBIWXMAAA7EAAAOxAGVKw4bAAAAO0lEQVQ4je3VIQ4AMAxCUZpw/yuzZFPV4MYXlU9gSghCMN47mIgm6IHBWNCOPrEr6MeAsSr4z4bKvYEDou0GTfPqtc0AAAAASUVORK5CYII=",
     "contentType": "image/png",
     "groupId": "0",
     "height": 20,
     "width": 20,
     "layerId": 9,
     "layerName": "Footprint"
    }
   ],
   "layerId": 9,
   "layerName": "Footprint",
   "serviceItemId": "451edf8fa40746ae9ef5ca5fdcc58386"
  },
  {
   "id": 10,
   "name": "Image",
   "parentLayerId": 7,
   "defaultVisibility": true,
   "subLayerIds": null,
   "minScale": 0,
   "maxScale": 0,
   "type": "Raster Layer",
   "supportsDynamicLegends": true,
   "legend": [
    {
     "label": "Red: Band_1",
     "imageData": "iVBORw0KGgoAAAANSUhEUgAAABQAAAAUCAYAAACNiR0NAAAACXBIWXMAAA7EAAAOxAGVKw4bAAAAOklEQVQ4jWNhoDJgoZmB/8GIfMAIRrR0IbUAC9VMgoJRAykHLFQwAwWMGkg5YBnBBjJCyzOqGUgtAABgfwJTnasaYgAAAABJRU5ErkJggg==",
     "contentType": "image/png",
     "groupId": "0",
     "height": 20,
     "width": 20,
     "layerId": 10,
     "layerName": "Image"
    },
    {
     "label": "Green: Band_2",
     "imageData": "iVBORw0KGgoAAAANSUhEUgAAABQAAAAUCAYAAACNiR0NAAAACXBIWXMAAA7EAAAOxAGVKw4bAAAAPElEQVQ4je3UoQ0AMBBCUS5h/5WvpkmDhjr+AE8gIMLxH7hYSxqMgqFY0I4+oRX0Y8CQCvq9De+f5cBQB19+AlPZl25RAAAAAElFTkSuQmCC",
     "contentType": "image/png",
     "groupId": "0",
     "height": 20,
     "width": 20,
     "layerId": 10,
     "layerName": "Image"
    },
    {
     "label": "Blue: Band_3",
     "imageData": "iVBORw0KGgoAAAANSUhEUgAAABQAAAAUCAYAAACNiR0NAAAACXBIWXMAAA7EAAAOxAGVKw4bAAAAPElEQVQ4jWNhoDJgoaGB//9TZhQjI5qB1AEsowZSDFgoNwIVjBpIOWChghkoYNRAygFSGELKMyoaSB0AAF59AlO8NYpcAAAAAElFTkSuQmCC",
     "contentType": "image/png",
     "groupId": "0",
     "height": 20,
     "width": 20,
     "layerId": 10,
     "layerName": "Image"
    }
   ],
   "layerId": 10,
   "layerName": "Image",
   "serviceItemId": "451edf8fa40746ae9ef5ca5fdcc58386"
  }
 ],
 "initialExtent": {
  "xmin": -1.1726013256709974E7,
  "ymin": 4738872.201417671,
  "xmax": -1.1649074741061728E7,
  "ymax": 4806592.461605664,
  "zmin": null,
  "zmax": null,
  "spatialReference": {
   "wkid": 102100,
   "latestWkid": 3857
  }
 },
 "fullExtent": {
  "xmin": -1.1726013256709974E7,
  "ymin": 4738872.201417671,
  "xmax": -1.1649074741061728E7,
  "ymax": 4806592.461605664,
  "zmin": null,
  "zmax": null,
  "spatialReference": {
   "wkid": 102100,
   "latestWkid": 3857
  }
 },
 "minScale": 147914382,
 "maxScale": 0,
 "exportTilesAllowed": true,
 "maxExportTilesCount": 100000,
 "currentVersion": 11.5,
 "mapName": "Map",
 "singleFusedMapCache": true,
 "type": "MapServer",
 "supportedExtensions": "",
 "capabilities": "TilesOnly,Tilemap",
 "serviceItemId": "451edf8fa40746ae9ef5ca5fdcc58386"
}
