{
 "currentVersion": 11.5,
 "cimVersion": "3.5.0",
 "serviceDescription": "This service is used as a base map for Douglas County,Colorado. It consists of centerline, park, hydro, and school data. For questions or comments please email gisinfo@douglas.co.us.",
 "mapName": "Dougco_BaseMap_Topo_RasterAndAnno",
 "description": "This service is used as a base map for Douglas County,Colorado. It consists of centerline, park, hydro, and school data. For questions or comments please email gisinfo@douglas.co.us.",
 "copyrightText": "DC GIS Services Team",
 "supportsDynamicLayers": true,
 "layers": [
  {
   "id": 0,
   "name": "282",
   "parentLayerId": -1,
   "defaultVisibility": true,
   "subLayerIds": [
    8
   ],
   "minScale": 283,
   "maxScale": 0,
   "type": "Group Layer",
   "supportsDynamicLegends": false
  },
  {
   "id": 8,
   "name": "DCGIS.Towns",
   "parentLayerId": 0,
   "defaultVisibility": true,
   "subLayerIds": null,
   "minScale": 282,
   "maxScale": 0,
   "type": "Feature Layer",
   "geometryType": "esriGeometryPolygon",
   "supportsDynamicLegends": true
  },
  {
   "id": 10,
   "name": "564",
   "parentLayerId": -1,
   "defaultVisibility": true,
   "subLayerIds": [
    20
   ],
   "minScale": 565,
   "maxScale": 283,
   "type": "Group Layer",
   "supportsDynamicLegends": false
  },
  {
   "id": 20,
   "name": "DCGIS.Towns",
   "parentLayerId": 10,
   "defaultVisibility": true,
   "subLayerIds": null,
   "minScale": 565,
   "maxScale": 283,
   "type": "Feature Layer",
   "geometryType": "esriGeometryPolygon",
   "supportsDynamicLegends": true
  },
  {
   "id": 22,
   "name": "1:1,128",
   "parentLayerId": -1,
   "defaultVisibility": true,
   "subLayerIds": [
    32
   ],
   "minScale": 1130,
   "maxScale": 566,
   "type": "Group Layer",
   "supportsDynamicLegends": false
  },
  {
   "id": 32,
   "name": "DCGIS.Towns",
   "parentLayerId": 22,
   "defaultVisibility": true,
   "subLayerIds": null,
   "minScale": 1130,
   "maxScale": 566,
   "type": "Feature Layer",
   "geometryType": "esriGeometryPolygon",
   "supportsDynamicLegends": true
  },
  {
   "id": 34,
   "name": "1:2,257",
   "parentLayerId": -1,
   "defaultVisibility": true,
   "subLayerIds": [
    43,
    45
   ],
   "minScale": 2258,
   "maxScale": 1131,
   "type": "Group Layer",
   "supportsDynamicLegends": false
  },
  {
   "id": 43,
   "name": "Contours",
   "parentLayerId": 34,
   "defaultVisibility": true,
   "subLayerIds": null,
   "minScale": 2258,
   "maxScale": 1131,
   "type": "Feature Layer",
   "geometryType": "esriGeometryPolyline",
   "supportsDynamicLegends": true
  },
  {
   "id": 45,
   "name": "DCGIS.Towns",
   "parentLayerId": 34,
   "defaultVisibility": true,
   "subLayerIds": null,
   "minScale": 2258,
   "maxScale": 1131,
   "type": "Feature Layer",
   "geometryType": "esriGeometryPolygon",
   "supportsDynamicLegends": true
  },
  {
   "id": 47,
   "name": "1:4,514",
   "parentLayerId": -1,
   "defaultVisibility": true,
   "subLayerIds": [
    56,
    58
   ],
   "minScale": 4515,
   "maxScale": 2259,
   "type": "Group Layer",
   "supportsDynamicLegends": false
  },
  {
   "id": 56,
   "name": "Contours",
   "parentLayerId": 47,
   "defaultVisibility": true,
   "subLayerIds": null,
   "minScale": 4515,
   "maxScale": 2259,
   "type": "Feature Layer",
   "geometryType": "esriGeometryPolyline",
   "supportsDynamicLegends": true
  },
  {
   "id": 58,
   "name": "DCGIS.Towns",
   "parentLayerId": 47,
   "defaultVisibility": true,
   "subLayerIds": null,
   "minScale": 4515,
   "maxScale": 2259,
   "type": "Feature Layer",
   "geometryType": "esriGeometryPolygon",
   "supportsDynamicLegends": true
  },
  {
   "id": 60,
   "name": "1:9,028",
   "parentLayerId": -1,
   "defaultVisibility": true,
   "subLayerIds": [
    68,
    70
   ],
   "minScale": 9028,
   "maxScale": 4516,
   "type": "Group Layer",
   "supportsDynamicLegends": false
  },
  {
   "id": 68,
   "name": "Contours",
   "parentLayerId": 60,
   "defaultVisibility": true,
   "subLayerIds": null,
   "minScale": 9028,
   "maxScale": 4516,
   "type": "Feature Layer",
   "geometryType": "esriGeometryPolyline",
   "supportsDynamicLegends": true
  },
  {
   "id": 70,
   "name": "DCGIS.Towns",
   "parentLayerId": 60,
   "defaultVisibility": true,
   "subLayerIds": null,
   "minScale": 9028,
   "maxScale": 4516,
   "type": "Feature Layer",
   "geometryType": "esriGeometryPolygon",
   "supportsDynamicLegends": true
  },
  {
   "id": 72,
   "name": "1:18,056",
   "parentLayerId": -1,
   "defaultVisibility": true,
   "subLayerIds": [
    80,
    81,
    83
   ],
   "minScale": 18056,
   "maxScale": 9029,
   "type": "Group Layer",
   "supportsDynamicLegends": false
  },
  {
   "id": 80,
   "name": "Contours",
   "parentLayerId": 72,
   "defaultVisibility": true,
   "subLayerIds": null,
   "minScale": 18056,
   "maxScale": 9029,
   "type": "Feature Layer",
   "geometryType": "esriGeometryPolyline",
   "supportsDynamicLegends": true
  },
  {
   "id": 81,
   "name": "Hillshade_10m",
   "parentLayerId": 72,
   "defaultVisibility": true,
   "subLayerIds": null,
   "minScale": 18056,
   "maxScale": 9029,
   "type": "Raster Layer",
   "supportsDynamicLegends": true
  },
  {
   "id": 83,
   "name": "DCGIS.Towns",
   "parentLayerId": 72,
   "defaultVisibility": true,
   "subLayerIds": null,
   "minScale": 18056,
   "maxScale": 9029,
   "type": "Feature Layer",
   "geometryType": "esriGeometryPolygon",
   "supportsDynamicLegends": true
  },
  {
   "id": 85,
   "name": "1:36,112",
   "parentLayerId": -1,
   "defaultVisibility": true,
   "subLayerIds": [
    91,
    92,
    94
   ],
   "minScale": 36112,
   "maxScale": 18057,
   "type": "Group Layer",
   "supportsDynamicLegends": false
  },
  {
   "id": 91,
   "name": "Contours",
   "parentLayerId": 85,
   "defaultVisibility": true,
   "subLayerIds": null,
   "minScale": 36112,
   "maxScale": 18057,
   "type": "Feature Layer",
   "geometryType": "esriGeometryPolyline",
   "supportsDynamicLegends": true
  },
  {
   "id": 92,
   "name": "Hillshade_10m",
   "parentLayerId": 85,
   "defaultVisibility": true,
   "subLayerIds": null,
   "minScale": 36112,
   "maxScale": 18057,
   "type": "Raster Layer",
   "supportsDynamicLegends": true
  },
  {
   "id": 94,
   "name": "DCGIS.Towns",
   "parentLayerId": 85,
   "defaultVisibility": true,
   "subLayerIds": null,
   "minScale": 36112,
   "maxScale": 18057,
   "type": "Feature Layer",
   "geometryType": "esriGeometryPolygon",
   "supportsDynamicLegends": true
  },
  {
   "id": 96,
   "name": "1:72,224",
   "parentLayerId": -1,
   "defaultVisibility": true,
   "subLayerIds": [
    100,
    101,
    103
   ],
   "minScale": 72225,
   "maxScale": 36114,
   "type": "Group Layer",
   "supportsDynamicLegends": false
  },
  {
   "id": 100,
   "name": "Contours",
   "parentLayerId": 96,
   "defaultVisibility": true,
   "subLayerIds": null,
   "minScale": 72225,
   "maxScale": 36114,
   "type": "Feature Layer",
   "geometryType": "esriGeometryPolyline",
   "supportsDynamicLegends": true
  },
  {
   "id": 101,
   "name": "hs30m_dc",
   "parentLayerId": 96,
   "defaultVisibility": true,
   "subLayerIds": null,
   "minScale": 72225,
   "maxScale": 36114,
   "type": "Raster Layer",
   "supportsDynamicLegends": true
  },
  {
   "id": 103,
   "name": "DCGIS.Towns",
   "parentLayerId": 96,
   "defaultVisibility": true,
   "subLayerIds": null,
   "minScale": 72225,
   "maxScale": 36114,
   "type": "Feature Layer",
   "geometryType": "esriGeometryPolygon",
   "supportsDynamicLegends": true
  },
  {
   "id": 105,
   "name": "1:144,448",
   "parentLayerId": -1,
   "defaultVisibility": true,
   "subLayerIds": [
    106,
    111,
    113
   ],
   "minScale": 144449,
   "maxScale": 72226,
   "type": "Group Layer",
   "supportsDynamicLegends": false
  },
  {
   "id": 106,
   "name": "RoadSymbolAnno_ReferenceScale192000",
   "parentLayerId": 105,
   "defaultVisibility": true,
   "subLayerIds": [
    107
   ],
   "minScale": 144448,
   "maxScale": 72226,
   "type": "Annotation Layer",
   "geometryType": "esriGeometryPolygon",
   "supportsDynamicLegends": false
  },
  {
   "id": 107,
   "name": "Default",
   "parentLayerId": 106,
   "defaultVisibility": true,
   "subLayerIds": null,
   "minScale": 0,
   "maxScale": 0,
   "supportsDynamicLegends": false
  },
  {
   "id": 111,
   "name": "hs30m_dc",
   "parentLayerId": 105,
   "defaultVisibility": true,
   "subLayerIds": null,
   "minScale": 144448,
   "maxScale": 72226,
   "type": "Raster Layer",
   "supportsDynamicLegends": true
  },
  {
   "id": 113,
   "name": "DCGIS.Towns",
   "parentLayerId": 105,
   "defaultVisibility": true,
   "subLayerIds": null,
   "minScale": 144448,
   "maxScale": 72226,
   "type": "Feature Layer",
   "geometryType": "esriGeometryPolygon",
   "supportsDynamicLegends": true
  },
  {
   "id": 115,
   "name": "1:288,896",
   "parentLayerId": -1,
   "defaultVisibility": true,
   "subLayerIds": [
    116,
    121,
    123
   ],
   "minScale": 288897,
   "maxScale": 144450,
   "type": "Group Layer",
   "supportsDynamicLegends": false
  },
  {
   "id": 116,
   "name": "RoadSymbolAnno_ReferenceScale330000",
   "parentLayerId": 115,
   "defaultVisibility": true,
   "subLayerIds": [
    117
   ],
   "minScale": 288896,
   "maxScale": 144450,
   "type": "Annotation Layer",
   "geometryType": "esriGeometryPolygon",
   "supportsDynamicLegends": false
  },
  {
   "id": 117,
   "name": "Default",
   "parentLayerId": 116,
   "defaultVisibility": true,
   "subLayerIds": null,
   "minScale": 0,
   "maxScale": 0,
   "supportsDynamicLegends": false
  },
  {
   "id": 121,
   "name": "hs90m_dc",
   "parentLayerId": 115,
   "defaultVisibility": true,
   "subLayerIds": null,
   "minScale": 288896,
   "maxScale": 144450,
   "type": "Raster Layer",
   "supportsDynamicLegends": true
  },
  {
   "id": 123,
   "name": "DCGIS.Towns",
   "parentLayerId": 115,
   "defaultVisibility": true,
   "subLayerIds": null,
   "minScale": 288896,
   "maxScale": 144450,
   "type": "Feature Layer",
   "geometryType": "esriGeometryPolygon",
   "supportsDynamicLegends": true
  },
  {
   "id": 125,
   "name": "1:577,791",
   "parentLayerId": -1,
   "defaultVisibility": true,
   "subLayerIds": [
    126,
    131,
    133
   ],
   "minScale": 577792,
   "maxScale": 288898,
   "type": "Group Layer",
   "supportsDynamicLegends": false
  },
  {
   "id": 126,
   "name": "RoadSymbolAnno_ReferenceScale330000",
   "parentLayerId": 125,
   "defaultVisibility": true,
   "subLayerIds": [
    127
   ],
   "minScale": 577792,
   "maxScale": 288898,
   "type": "Annotation Layer",
   "geometryType": "esriGeometryPolygon",
   "supportsDynamicLegends": false
  },
  {
   "id": 127,
   "name": "Default",
   "parentLayerId": 126,
   "defaultVisibility": true,
   "subLayerIds": null,
   "minScale": 0,
   "maxScale": 0,
   "supportsDynamicLegends": false
  },
  {
   "id": 131,
   "name": "hs90m_dc",
   "parentLayerId": 125,
   "defaultVisibility": true,
   "subLayerIds": null,
   "minScale": 577792,
   "maxScale": 288898,
   "type": "Raster Layer",
   "supportsDynamicLegends": true
  },
  {
   "id": 133,
   "name": "DCGIS.Towns",
   "parentLayerId": 125,
   "defaultVisibility": true,
   "subLayerIds": null,
   "minScale": 577792,
   "maxScale": 288898,
   "type": "Feature Layer",
   "geometryType": "esriGeometryPolygon",
   "supportsDynamicLegends": true
  },
  {
   "id": 135,
   "name": "1:1,155,581",
   "parentLayerId": -1,
   "defaultVisibility": true,
   "subLayerIds": [
    136,
    141,
    143
   ],
   "minScale": 0,
   "maxScale": 577793,
   "type": "Group Layer",
   "supportsDynamicLegends": false
  },
  {
   "id": 136,
   "name": "RoadSymbolAnno_ReferenceScale330000",
   "parentLayerId": 135,
   "defaultVisibility": true,
   "subLayerIds": [
    137
   ],
   "minScale": 0,
   "maxScale": 577793,
   "type": "Annotation Layer",
   "geometryType": "esriGeometryPolygon",
   "supportsDynamicLegends": false
  },
  {
   "id": 137,
   "name": "Default",
   "parentLayerId": 136,
   "defaultVisibility": true,
   "subLayerIds": null,
   "minScale": 0,
   "maxScale": 0,
   "supportsDynamicLegends": false
  },
  {
   "id": 141,
   "name": "hs90m_dc",
   "parentLayerId": 135,
   "defaultVisibility": true,
   "subLayerIds": null,
   "minScale": 0,
   "maxScale": 577793,
   "type": "Raster Layer",
   "supportsDynamicLegends": true
  },
  {
   "id": 143,
   "name": "DCGIS.Towns",
   "parentLayerId": 135,
   "defaultVisibility": true,
   "subLayerIds": null,
   "minScale": 0,
   "maxScale": 577793,
   "type": "Feature Layer",
   "geometryType": "esriGeometryPolygon",
   "supportsDynamicLegends": true
  }
 ],
 "tables": [],
 "spatialReference": {
  "wkid": 102100,
  "latestWkid": 3857,
  "xyTolerance": 0.001,
  "zTolerance": 0.001,
  "mTolerance": 0.001,
  "falseX": -20037700,
  "falseY": -30241100,
  "xyUnits": 10000,
  "falseZ": -100000,
  "zUnits": 10000,
  "falseM": -100000,
  "mUnits": 10000
 },
 "singleFusedMapCache": true,
 "tileInfo": {
  "rows": 256,
  "cols": 256,
  "dpi": 96,
  "format": "Mixed",
  "compressionQuality": 75,
  "origin": {
   "x": -2.0037508342787E7,
   "y": 2.0037508342787E7
  },
  "spatialReference": {
   "wkid": 102100,
   "latestWkid": 3857,
   "xyTolerance": 0.001,
   "zTolerance": 0.001,
   "mTolerance": 0.001,
   "falseX": -20037700,
   "falseY": -30241100,
   "xyUnits": 1.4892314192838538E8,
   "falseZ": -100000,
   "zUnits": 10000,
   "falseM": -100000,
   "mUnits": 10000
  },
  "lods": [
   {
    "level": 0,
    "resolution": 156543.033928,
    "scale": 5.91657527591555E8
   },
   {
    "level": 1,
    "resolution": 78271.5169639999,
    "scale": 2.95828763795777E8
   },
   {
    "level": 2,
    "resolution": 39135.7584820001,
    "scale": 1.47914381897889E8
   },
   {
    "level": 3,
    "resolution": 19567.8792409999,
    "scale": 7.3957190948944E7
   },
   {
    "level": 4,
    "resolution": 9783.93962049996,
    "scale": 3.6978595474472E7
   },
   {
    "level": 5,
    "resolution": 4891.96981024998,
    "scale": 1.8489297737236E7
   },
   {
    "level": 6,
    "resolution": 2445.98490512499,
    "scale": 9244648.868618
   },
   {
    "level": 7,
    "resolution": 1222.99245256249,
    "scale": 4622324.434309
   },
   {
    "level": 8,
    "resolution": 611.49622628138,
    "scale": 2311162.217155
   },
   {
    "level": 9,
    "resolution": 305.748113140558,
    "scale": 1155581.108577
   },
   {
    "level": 10,
    "resolution": 152.874056570411,
    "scale": 577790.554289
   },
   {
    "level": 11,
    "resolution": 76.4370282850732,
    "scale": 288895.277144
   },
   {
    "level": 12,
    "resolution": 38.2185141425366,
    "scale": 144447.638572
   },
   {
    "level": 13,
    "resolution": 19.1092570712683,
    "scale": 72223.819286
   },
   {
    "level": 14,
    "resolution": 9.55462853563415,
    "scale": 36111.909643
   },
   {
    "level": 15,
    "resolution": 4.77731426794937,
    "scale": 18055.954822
   },
   {
    "level": 16,
    "resolution": 2.38865713397468,
    "scale": 9027.977411
   },
   {
    "level": 17,
    "resolution": 1.19432856685505,
    "scale": 4513.988705
   },
   {
    "level": 18,
    "resolution": 0.597164283559817,
    "scale": 2256.994353
   },
   {
    "level": 19,
    "resolution": 0.298582141647617,
    "scale": 1128.497176
   },
   {
    "level": 20,
    "resolution": 0.14929107082380833,
    "scale": 564.248588
   },
   {
    "level": 21,
    "resolution": 0.07464553541190416,
    "scale": 282.124294
   },
   {
    "level": 22,
    "resolution": 0.03732276770595208,
    "scale": 141.062147
   },
   {
    "level": 23,
    "resolution": 0.01866138385297604,
    "scale": 70.5310735
   }
  ]
 },
 "storageInfo": {
  "storageFormat": "esriMapCacheStorageModeCompactV2",
  "packetSize": 128
 },
 "initialExtent": {
  "xmin": -1.1766253885473736E7,
  "ymin": 4709925.631561286,
  "xmax": -1.1602984393056538E7,
  "ymax": 4836046.728231874,
  "spatialReference": {
   "cs": "pcs",
   "wkid": 102100
  }
 },
 "fullExtent": {
  "xmin": -1.1947486230726158E7,
  "ymin": 4675260.10500912,
  "xmax": -1.141701325442729E7,
  "ymax": 4967249.553058353,
  "spatialReference": {
   "cs": "pcs",
   "wkid": 102100
  }
 },
 "datesInUnknownTimezone": false,
 "minScale": 5.91657527591555E8,
 "maxScale": 564.248588,
 "minLOD": 0,
 "maxLOD": 20,
 "units": "esriMeters",
 "supportedImageFormatTypes": "PNG32,PNG24,PNG,JPG,DIB,TIFF,EMF,PS,PDF,GIF,SVG,SVGZ,BMP",
 "documentInfo": {
  "Title": "BaseMap_GCS",
  "Author": "",
  "Comments": "This service is used as a base map for Douglas County,Colorado. It consists of centerline, park, hydro, and school data. For questions or comments please email gisinfo@douglas.co.us.",
  "Subject": "This service is used as a base map for Douglas County,Colorado. It consists of centerline, park, hydro, and school data.",
  "Category": "",
  "Version": "3.2.0",
  "AntialiasingMode": "Fast",
  "TextAntialiasingMode": "Force",
  "Keywords": "Douglas County Colorado,BaseMap"
 },
 "supportsQueryDomains": true,
 "capabilities": "Map,Query,Data",
 "supportedQueryFormats": "JSON, geoJSON, PBF",
 "hasVersionedData": true,
 "exportTilesAllowed": false,
 "referenceScale": 0.0,
 "datumTransformations": [
  {
   "geoTransforms": [
    {
     "wkid": 108001,
     "latestWkid": 1241,
     "transformForward": true,
     "name": "NAD_1927_To_NAD_1983_NADCON"
    }
   ]
  },
  {
   "geoTransforms": [
    {
     "wkid": 108001,
     "latestWkid": 1241,
     "transformForward": false,
     "name": "NAD_1927_To_NAD_1983_NADCON"
    }
   ]
  },
  {
   "geoTransforms": [
    {
     "wkid": 1173,
     "latestWkid": 1173,
     "transformForward": true,
     "name": "NAD_1927_To_WGS_1984_4"
    }
   ]
  },
  {
   "geoTransforms": [
    {
     "wkid": 1173,
     "latestWkid": 1173,
     "transformForward": false,
     "name": "NAD_1927_To_WGS_1984_4"
    }
   ]
  },
  {
   "geoTransforms": [
    {
     "wkid": 1308,
     "latestWkid": 1308,
     "transformForward": true,
     "name": "NAD_1983_To_WGS_1984_4"
    }
   ]
  },
  {
   "geoTransforms": [
    {
     "wkid": 1308,
     "latestWkid": 1308,
     "transformForward": false,
     "name": "NAD_1983_To_WGS_1984_4"
    }
   ]
  }
 ],
 "supportsDatumTransformation": true,
 "floorAwareMapProperties": {
  "defaultFloorFilterSettings": {
   "isEnabled": true
  }
 },
 "archivingInfo": {
  "supportsHistoricMoment": true
 },
 "supportsClipping": true,
 "supportsSpatialFilter": true,
 "supportsTimeRelation": true,
 "supportsQueryDataElements": true,
 "mapUnits": {
  "uwkid": 9001
 },
 "maxSelectionCount": 2000,
 "maxRecordCount": 2000,
 "maxImageHeight": 4096,
 "maxImageWidth": 4096,
 "supportedExtensions": "",
 "serviceItemId": "5fd8addba1ef487e986c2f5fb1f293aa"
}
